BEGIN:VCALENDAR
VERSION:2.0
PRODID:-//IAFF - ECPv6.2.9//NONSGML v1.0//EN
CALSCALE:GREGORIAN
METHOD:PUBLISH
X-ORIGINAL-URL:https://www.iaff.org
X-WR-CALDESC:Events for IAFF
REFRESH-INTERVAL;VALUE=DURATION:PT1H
X-Robots-Tag:noindex
X-PUBLISHED-TTL:PT1H
BEGIN:VTIMEZONE
TZID:America/New_York
BEGIN:DAYLIGHT
TZOFFSETFROM:-0500
TZOFFSETTO:-0400
TZNAME:EDT
DTSTART:20190310T070000
END:DAYLIGHT
BEGIN:STANDARD
TZOFFSETFROM:-0400
TZOFFSETTO:-0500
TZNAME:EST
DTSTART:20191103T060000
END:STANDARD
BEGIN:DAYLIGHT
TZOFFSETFROM:-0500
TZOFFSETTO:-0400
TZNAME:EDT
DTSTART:20200308T070000
END:DAYLIGHT
BEGIN:STANDARD
TZOFFSETFROM:-0400
TZOFFSETTO:-0500
TZNAME:EST
DTSTART:20201101T060000
END:STANDARD
BEGIN:DAYLIGHT
TZOFFSETFROM:-0500
TZOFFSETTO:-0400
TZNAME:EDT
DTSTART:20210314T070000
END:DAYLIGHT
BEGIN:STANDARD
TZOFFSETFROM:-0400
TZOFFSETTO:-0500
TZNAME:EST
DTSTART:20211107T060000
END:STANDARD
BEGIN:DAYLIGHT
TZOFFSETFROM:-0500
TZOFFSETTO:-0400
TZNAME:EDT
DTSTART:20220313T070000
END:DAYLIGHT
BEGIN:STANDARD
TZOFFSETFROM:-0400
TZOFFSETTO:-0500
TZNAME:EST
DTSTART:20221106T060000
END:STANDARD
END:VTIMEZONE
BEGIN:VEVENT
DTSTART;VALUE=DATE:20220712
DTEND;VALUE=DATE:20220713
DTSTAMP:20240229T154658
CREATED:20220621T200509Z
LAST-MODIFIED:20220621T200744Z
UID:94743-1657584000-1657670399@www.iaff.org
SUMMARY:PEP Online: New Leadership Skills Track
DESCRIPTION:
URL:https://www.iaff.org/event/pep-online-new-leadership-skills-track/
CATEGORIES:PEP Events,Upcoming Events
END:VEVENT
BEGIN:VEVENT
DTSTART;VALUE=DATE:20220706
DTEND;VALUE=DATE:20220708
DTSTAMP:20240229T154658
CREATED:20220317T131622Z
LAST-MODIFIED:20220419T141958Z
UID:91205-1657065600-1657238399@www.iaff.org
SUMMARY:12th District PEP Training Event
DESCRIPTION:
URL:https://www.iaff.org/event/12th-district-pep-training-event/
LOCATION:Coral Gables\, FL
CATEGORIES:PEP Events,Upcoming Events
END:VEVENT
BEGIN:VEVENT
DTSTART;VALUE=DATE:20220628
DTEND;VALUE=DATE:20220701
DTSTAMP:20240229T154658
CREATED:20220317T131400Z
LAST-MODIFIED:20220518T125923Z
UID:91202-1656374400-1656633599@www.iaff.org
SUMMARY:1st District PEP Training Event
DESCRIPTION:
URL:https://www.iaff.org/event/1st-district-pep-training-event/
LOCATION:Buffalo\, NY
CATEGORIES:PEP Events,Upcoming Events
END:VEVENT
BEGIN:VEVENT
DTSTART;VALUE=DATE:20220621
DTEND;VALUE=DATE:20220622
DTSTAMP:20240229T154658
CREATED:20220301T184104Z
LAST-MODIFIED:20220427T130410Z
UID:90640-1655769600-1655855999@www.iaff.org
SUMMARY:New England Conference of Firefighters PEP Training Event
DESCRIPTION:
URL:https://www.iaff.org/event/new-england-conference-of-firefighters-pep-training-event/
LOCATION:Mashantucket\, CT
CATEGORIES:PEP Events,Upcoming Events
END:VEVENT
BEGIN:VEVENT
DTSTART;VALUE=DATE:20220620
DTEND;VALUE=DATE:20220622
DTSTAMP:20240229T154658
CREATED:20220301T184220Z
LAST-MODIFIED:20220406T214206Z
UID:90643-1655683200-1655855999@www.iaff.org
SUMMARY:9th District PEP Training Event
DESCRIPTION:
URL:https://www.iaff.org/event/9th-district-pep-training-event/
LOCATION:Las Vegas\, NV
CATEGORIES:PEP Events,Upcoming Events
END:VEVENT
BEGIN:VEVENT
DTSTART;VALUE=DATE:20220524
DTEND;VALUE=DATE:20220526
DTSTAMP:20240229T154658
CREATED:20220301T183846Z
LAST-MODIFIED:20220301T183846Z
UID:90634-1653350400-1653523199@www.iaff.org
SUMMARY:5th District PEP Training Event
DESCRIPTION:
URL:https://www.iaff.org/event/5th-district-pep-training-event/
LOCATION:Minneapolis\, MN
CATEGORIES:PEP Events,Upcoming Events
END:VEVENT
BEGIN:VEVENT
DTSTART;VALUE=DATE:20220516
DTEND;VALUE=DATE:20220518
DTSTAMP:20240229T154658
CREATED:20220301T183736Z
LAST-MODIFIED:20220301T183736Z
UID:90632-1652659200-1652831999@www.iaff.org
SUMMARY:16th District PEP Training Event
DESCRIPTION:
URL:https://www.iaff.org/event/16th-district-pep-training-event/
LOCATION:Baltimore\, MD
CATEGORIES:PEP Events,Upcoming Events
END:VEVENT
BEGIN:VEVENT
DTSTART;VALUE=DATE:20220510
DTEND;VALUE=DATE:20220511
DTSTAMP:20240229T154658
CREATED:20220301T183502Z
LAST-MODIFIED:20220301T183502Z
UID:90629-1652140800-1652227199@www.iaff.org
SUMMARY:Professional Fire Fighters of New Hampshire PEP Training Event
DESCRIPTION:
URL:https://www.iaff.org/event/professional-fire-fighters-of-new-hampshire-pep-training-event/
LOCATION:Hampton\, NH
CATEGORIES:PEP Events,Upcoming Events
END:VEVENT
BEGIN:VEVENT
DTSTART;VALUE=DATE:20220425
DTEND;VALUE=DATE:20220427
DTSTAMP:20240229T154658
CREATED:20220301T183249Z
LAST-MODIFIED:20220301T183249Z
UID:90627-1650844800-1651017599@www.iaff.org
SUMMARY:4th District PEP Training Event
DESCRIPTION:
URL:https://www.iaff.org/event/4th-district-pep-training-event/
LOCATION:Morgantown\, WV
CATEGORIES:PEP Events,Upcoming Events
END:VEVENT
BEGIN:VEVENT
DTSTART;VALUE=DATE:20220404
DTEND;VALUE=DATE:20220407
DTSTAMP:20240229T154658
CREATED:20211214T170951Z
LAST-MODIFIED:20211214T170951Z
UID:88669-1649030400-1649289599@www.iaff.org
SUMMARY:Canadian Legislative Conference
DESCRIPTION:
URL:https://www.iaff.org/event/canadian-legislative-conference-2/
LOCATION:Ottawa\, Canada
END:VEVENT
BEGIN:VEVENT
DTSTART;VALUE=DATE:20220306
DTEND;VALUE=DATE:20220310
DTSTAMP:20240229T154658
CREATED:20211215T194454Z
LAST-MODIFIED:20220127T202242Z
UID:88756-1646524800-1646870399@www.iaff.org
SUMMARY:Legislative Conference
DESCRIPTION:
URL:https://www.iaff.org/event/legislative-conference/
LOCATION:Washington\, DC
END:VEVENT
BEGIN:VEVENT
DTSTART;VALUE=DATE:20220206
DTEND;VALUE=DATE:20220209
DTSTAMP:20240229T154658
CREATED:20211214T170757Z
LAST-MODIFIED:20211214T170757Z
UID:88666-1644105600-1644364799@www.iaff.org
SUMMARY:Canadian Policy Conference
DESCRIPTION:
URL:https://www.iaff.org/event/canadian-policy-conference-2/
LOCATION:Burnaby\, Canada
END:VEVENT
BEGIN:VEVENT
DTSTART;VALUE=DATE:20220109
DTEND;VALUE=DATE:20220113
DTSTAMP:20240229T154658
CREATED:20210914T221117Z
LAST-MODIFIED:20211102T153110Z
UID:85765-1641686400-1642031999@www.iaff.org
SUMMARY:Affiliate Leadership Training Summit (ALTS) and Human Relations Conference
DESCRIPTION:
URL:https://www.iaff.org/event/affiliate-leadership-training-summit-alts-and-human-relations-conference/
LOCATION:Lake Buena Vista\, FL
END:VEVENT
BEGIN:VEVENT
DTSTART;VALUE=DATE:20210918
DTEND;VALUE=DATE:20210919
DTSTAMP:20240229T154658
CREATED:20210305T190934Z
LAST-MODIFIED:20210914T172437Z
UID:77870-1631923200-1632009599@www.iaff.org
SUMMARY:Fallen Fire Fighter Memorial - VIRTUAL
DESCRIPTION:Tune in Saturday\, September 18 at 11:00 a.m. (Mountain Time) for our 2021 Fallen Fire Fighter Memorial Virtual Remembrance to honor our fallen whose names will forever be etched onto our Wall of Honor. The broadcast starts at 10:50 a.m. (MT) and the program begins at 11:00 a.m. (MT). \nThree ways to watch: \nwww.iaff.org/fffm21\nwww.youtube.com/IAFFTV\nwww.facebook.com/iaffonline
URL:https://www.iaff.org/event/fallen-fire-fighter-memorial-2021/
LOCATION:Colorado Springs\, CO 
CATEGORIES:Upcoming Events
END:VEVENT
BEGIN:VEVENT
DTSTART;VALUE=DATE:20210908
DTEND;VALUE=DATE:20210913
DTSTAMP:20240229T154658
CREATED:20210709T133826Z
LAST-MODIFIED:20210816T202024Z
UID:82981-1631059200-1631491199@www.iaff.org
SUMMARY:IAFF-MG 2021 International Motorcycle Rally - CANCELED
DESCRIPTION:
URL:https://www.iaff.org/event/iaff-mg-2021-international-motorcycle-rally/
END:VEVENT
BEGIN:VEVENT
DTSTART;VALUE=DATE:20210906
DTEND;VALUE=DATE:20210911
DTSTAMP:20240229T154658
CREATED:20210203T174100Z
LAST-MODIFIED:20210730T161132Z
UID:77101-1630886400-1631318399@www.iaff.org
SUMMARY:Redmond Health and Safety Symposium/Barbera EMS Conference - CANCELED
DESCRIPTION:This event has been canceled due to COVID-19. More information to follow.
URL:https://www.iaff.org/event/redmond-health-and-safety-symposium-barbera-ems-conference/
LOCATION:New York\, NY
END:VEVENT
BEGIN:VEVENT
DTSTART;VALUE=DATE:20210718
DTEND;VALUE=DATE:20210721
DTSTAMP:20240229T154658
CREATED:20210616T195619Z
LAST-MODIFIED:20210616T195619Z
UID:82280-1626566400-1626825599@www.iaff.org
SUMMARY:10th District PEP Event
DESCRIPTION:
URL:https://www.iaff.org/event/10th-district-pep-event/
LOCATION:San Diego\, CA
CATEGORIES:PEP Events,Upcoming Events
END:VEVENT
BEGIN:VEVENT
DTSTART;VALUE=DATE:20210628
DTEND;VALUE=DATE:20210629
DTSTAMP:20240229T154658
CREATED:20210614T133533Z
LAST-MODIFIED:20210614T133533Z
UID:82051-1624838400-1624924799@www.iaff.org
SUMMARY:Legislative Conference - VIRTUAL
DESCRIPTION:
URL:https://www.iaff.org/event/legislative-conference-virtual/
END:VEVENT
BEGIN:VEVENT
DTSTART;VALUE=DATE:20210526
DTEND;VALUE=DATE:20210528
DTSTAMP:20240229T154658
CREATED:20210326T164011Z
LAST-MODIFIED:20210326T164028Z
UID:78753-1621987200-1622159999@www.iaff.org
SUMMARY:14th District PEP Training
DESCRIPTION:
URL:https://www.iaff.org/event/14th-district-pep-training/
LOCATION:Gulf Shores\, AL
CATEGORIES:PEP Events
END:VEVENT
BEGIN:VEVENT
DTSTART;TZID=America/New_York:20210525T123000
DTEND;TZID=America/New_York:20210525T170000
DTSTAMP:20240229T154658
CREATED:20210413T144333Z
LAST-MODIFIED:20210413T144333Z
UID:79505-1621945800-1621962000@www.iaff.org
SUMMARY:PEP Online: Union Representation
DESCRIPTION:
URL:https://www.iaff.org/event/pep-online-union-representation/
CATEGORIES:PEP Events
END:VEVENT
BEGIN:VEVENT
DTSTART;TZID=America/New_York:20210518T123000
DTEND;TZID=America/New_York:20210518T170000
DTSTAMP:20240229T154658
CREATED:20210413T144106Z
LAST-MODIFIED:20210413T144106Z
UID:79503-1621341000-1621357200@www.iaff.org
SUMMARY:PEP Online: Union Administration
DESCRIPTION:
URL:https://www.iaff.org/event/pep-online-union-administration/
CATEGORIES:PEP Events
END:VEVENT
BEGIN:VEVENT
DTSTART;VALUE=DATE:20210516
DTEND;VALUE=DATE:20210523
DTSTAMP:20240229T154658
CREATED:20210419T180520Z
LAST-MODIFIED:20210419T180520Z
UID:79651-1621123200-1621727999@www.iaff.org
SUMMARY:National EMS Week
DESCRIPTION:
URL:https://www.iaff.org/event/national-ems-week/
END:VEVENT
BEGIN:VEVENT
DTSTART;TZID=America/New_York:20210511T123000
DTEND;TZID=America/New_York:20210511T170000
DTSTAMP:20240229T154658
CREATED:20210413T143132Z
LAST-MODIFIED:20210413T143532Z
UID:79499-1620736200-1620752400@www.iaff.org
SUMMARY:PEP Online: New Leadership Skills
DESCRIPTION:
URL:https://www.iaff.org/event/pep-online/
CATEGORIES:PEP Events
END:VEVENT
BEGIN:VEVENT
DTSTART;VALUE=DATE:20210310
DTEND;VALUE=DATE:20210311
DTSTAMP:20240229T154658
CREATED:20210218T175122Z
LAST-MODIFIED:20210218T175555Z
UID:77431-1615334400-1615420799@www.iaff.org
SUMMARY:IAFF 55th Convention
DESCRIPTION:The IAFF 55th Convention will reconvene virtually for election results on March 10 at 1:00 p.m.
URL:https://www.iaff.org/event/iaff-55th-convention-2/
END:VEVENT
BEGIN:VEVENT
DTSTART;VALUE=DATE:20210126
DTEND;VALUE=DATE:20210130
DTSTAMP:20240229T154658
CREATED:20200619T201423Z
LAST-MODIFIED:20210126T145324Z
UID:56985-1611619200-1611964799@www.iaff.org
SUMMARY:IAFF 55th Convention - VIRTUAL EVENT
DESCRIPTION:
URL:https://www.iaff.org/event/iaff-55th-convention/
END:VEVENT
BEGIN:VEVENT
DTSTART;VALUE=DATE:20200919
DTEND;VALUE=DATE:20200920
DTSTAMP:20240229T154658
CREATED:20200129T142645Z
LAST-MODIFIED:20200519T193424Z
UID:49823-1600473600-1600559999@www.iaff.org
SUMMARY:Fallen Fire Fighter Memorial - VIRTUAL EVENT
DESCRIPTION:
URL:https://www.iaff.org/event/fallen-fire-fighter-memorial/
LOCATION:Colorado Springs\, CO 
END:VEVENT
BEGIN:VEVENT
DTSTART;VALUE=DATE:20200322
DTEND;VALUE=DATE:20200329
DTSTAMP:20240229T154658
CREATED:20181011T194338Z
LAST-MODIFIED:20191120T161858Z
UID:484-1584835200-1585439999@www.iaff.org
SUMMARY:Political Training Academy
DESCRIPTION:Developed through FIREPAC\, the A. Michael Mullane Political Training Academy educates and assists campaign veterans and political newcomers alike on how to run for elected office\, manage a political campaign or direct an affiliate’s political action program. \nView More
URL:https://www.iaff.org/event/a-michael-mullane-political-training-academy/
LOCATION:Silver Spring\, MD
CATEGORIES:Upcoming Events
END:VEVENT
BEGIN:VEVENT
DTSTART;VALUE=DATE:20200308
DTEND;VALUE=DATE:20200312
DTSTAMP:20240229T154658
CREATED:20190820T141359Z
LAST-MODIFIED:20200107T170544Z
UID:38107-1583625600-1583971199@www.iaff.org
SUMMARY:Legislative Conference
DESCRIPTION:[vc_row][vc_column][vc_column_text css=”.vc_custom_1578406071463{margin-bottom: 15px !important;}”]The dynamic environment in Washington\, DC\, makes advocacy work more important than ever. At the 2020 IAFF Legislative Conference\, you will learn more about the current political landscape and its impact on programs and policies that affect fire fighters. The conference will guide you through the challenges and opportunities facing fire fighters on Capitol Hill and in the White House.[/vc_column_text][vc_btn title=”Register” style=”flat” color=”juicy-pink” link=”url:https%3A%2F%2Fmember.iaff.org%2FEventRegistration%2F%3FmeetingId%3DLEG2020||target:%20_blank|”][/vc_column][/vc_row]
URL:https://www.iaff.org/event/2020-legislative-conference/
LOCATION:Washington\, DC
CATEGORIES:Upcoming Events
END:VEVENT
BEGIN:VEVENT
DTSTART;VALUE=DATE:20200119
DTEND;VALUE=DATE:20200123
DTSTAMP:20240229T154658
CREATED:20191024T170250Z
LAST-MODIFIED:20191113T185030Z
UID:44323-1579392000-1579737599@www.iaff.org
SUMMARY:​Affiliate Leadership Training Summit(ALTS)/Human Relations Conference (HRC)
DESCRIPTION:
URL:https://www.iaff.org/event/%e2%80%8baffiliate-leadership-training-summit-human-relations-conference/
LOCATION:Lake Buena Vista\, FL
CATEGORIES:Upcoming Events
END:VEVENT
BEGIN:VEVENT
DTSTART;VALUE=DATE:20191125
DTEND;VALUE=DATE:20191127
DTSTAMP:20240229T154658
CREATED:20191105T171240Z
LAST-MODIFIED:20191105T171240Z
UID:45289-1574640000-1574812799@www.iaff.org
SUMMARY:8th District PEP
DESCRIPTION:
URL:https://www.iaff.org/event/8th-district-pep/
LOCATION:Indianapolis\, IN
CATEGORIES:PEP Events,Upcoming Events
END:VEVENT
END:VCALENDAR