BEGIN:VCALENDAR
VERSION:2.0
PRODID:-//IAFF - ECPv6.15.17.1//NONSGML v1.0//EN
CALSCALE:GREGORIAN
METHOD:PUBLISH
X-WR-CALNAME:IAFF
X-ORIGINAL-URL:https://www.iaff.org
X-WR-CALDESC:Events for IAFF
REFRESH-INTERVAL;VALUE=DURATION:PT1H
X-Robots-Tag:noindex
X-PUBLISHED-TTL:PT1H
BEGIN:VTIMEZONE
TZID:America/New_York
BEGIN:DAYLIGHT
TZOFFSETFROM:-0500
TZOFFSETTO:-0400
TZNAME:EDT
DTSTART:20230312T070000
END:DAYLIGHT
BEGIN:STANDARD
TZOFFSETFROM:-0400
TZOFFSETTO:-0500
TZNAME:EST
DTSTART:20231105T060000
END:STANDARD
BEGIN:DAYLIGHT
TZOFFSETFROM:-0500
TZOFFSETTO:-0400
TZNAME:EDT
DTSTART:20240310T070000
END:DAYLIGHT
BEGIN:STANDARD
TZOFFSETFROM:-0400
TZOFFSETTO:-0500
TZNAME:EST
DTSTART:20241103T060000
END:STANDARD
BEGIN:DAYLIGHT
TZOFFSETFROM:-0500
TZOFFSETTO:-0400
TZNAME:EDT
DTSTART:20250309T070000
END:DAYLIGHT
BEGIN:STANDARD
TZOFFSETFROM:-0400
TZOFFSETTO:-0500
TZNAME:EST
DTSTART:20251102T060000
END:STANDARD
END:VTIMEZONE
BEGIN:VEVENT
DTSTART;TZID=America/New_York:20240626T000000
DTEND;TZID=America/New_York:20240627T235959
DTSTAMP:20260421T095619
CREATED:20240415T134444Z
LAST-MODIFIED:20240415T134449Z
UID:71488-1719360000-1719532799@www.iaff.org
SUMMARY:13th District Conference
DESCRIPTION:
URL:https://www.iaff.org/event/13th-district-conference/
LOCATION:Ontario\, Canada
END:VEVENT
BEGIN:VEVENT
DTSTART;TZID=America/New_York:20240618T000000
DTEND;TZID=America/New_York:20240619T235959
DTSTAMP:20260421T095619
CREATED:20231017T215115Z
LAST-MODIFIED:20240415T163400Z
UID:57831-1718668800-1718841599@www.iaff.org
SUMMARY:3rd District Conference
DESCRIPTION:
URL:https://www.iaff.org/event/3rd-district-conference/
LOCATION:Mashantucket\, CT
CATEGORIES:Partnership Education Program (PEP) Events
END:VEVENT
BEGIN:VEVENT
DTSTART;TZID=America/New_York:20240611T000000
DTEND;TZID=America/New_York:20240612T235959
DTSTAMP:20260421T095619
CREATED:20240417T155222Z
LAST-MODIFIED:20240417T155332Z
UID:71670-1718064000-1718236799@www.iaff.org
SUMMARY:Challenges of the Built Environment Workshop
DESCRIPTION:
URL:https://www.iaff.org/event/challenges-of-the-built-environment-workshop/
LOCATION:Cleveland\, OH
END:VEVENT
BEGIN:VEVENT
DTSTART;TZID=America/New_York:20240529T000000
DTEND;TZID=America/New_York:20240531T235959
DTSTAMP:20260421T095619
CREATED:20231017T215007Z
LAST-MODIFIED:20240326T191312Z
UID:57830-1716940800-1717199999@www.iaff.org
SUMMARY:5th District Conference
DESCRIPTION:
URL:https://www.iaff.org/event/iaff-5th-district-conference/
LOCATION:Minneapolis\, MN
END:VEVENT
BEGIN:VEVENT
DTSTART;TZID=America/New_York:20240514T000000
DTEND;TZID=America/New_York:20240515T235959
DTSTAMP:20260421T095619
CREATED:20240417T155022Z
LAST-MODIFIED:20240417T155028Z
UID:71668-1715644800-1715817599@www.iaff.org
SUMMARY:Responding to Renewable Energy Issues Workshop
DESCRIPTION:
URL:https://www.iaff.org/event/responding-to-renewable-energy-issues-workshop/
LOCATION:Boston\, MA
END:VEVENT
BEGIN:VEVENT
DTSTART;TZID=America/New_York:20240508T080000
DTEND;TZID=America/New_York:20240508T170000
DTSTAMP:20260421T095619
CREATED:20240328T145023Z
LAST-MODIFIED:20240328T145027Z
UID:70001-1715155200-1715187600@www.iaff.org
SUMMARY:Saskatchewan Prof. Fire Fighters & Paramedics - PEP Event
DESCRIPTION:
URL:https://www.iaff.org/event/saskatchewan-prof-fire-fighters-paramedics-pep-event/
LOCATION:Saskatoon\, SK\, Canada
CATEGORIES:Partnership Education Program (PEP) Events
END:VEVENT
BEGIN:VEVENT
DTSTART;TZID=America/New_York:20240507T120000
DTEND;TZID=America/New_York:20240507T120000
DTSTAMP:20260421T095619
CREATED:20240216T195505Z
LAST-MODIFIED:20240301T213827Z
UID:62308-1715083200-1715083200@www.iaff.org
SUMMARY:APPFFA "Jack Lloyd" Biennial Educational Seminar - PEP Event
DESCRIPTION:
URL:https://www.iaff.org/event/appffa-jack-lloyd-biennial-educational-seminar-pep-event/
LOCATION:Dartmouth\, NS\, Canada
CATEGORIES:Partnership Education Program (PEP) Events
END:VEVENT
BEGIN:VEVENT
DTSTART;TZID=America/New_York:20240507T000000
DTEND;TZID=America/New_York:20240507T235959
DTSTAMP:20260421T095619
CREATED:20240129T192541Z
LAST-MODIFIED:20240301T213833Z
UID:57841-1715040000-1715126399@www.iaff.org
SUMMARY:Professional Fire Fighters of New Hampshire - PEP Event
DESCRIPTION:
URL:https://www.iaff.org/event/professional-fire-fighters-of-new-hampshire-pep-event/
LOCATION:Concord\, NH
CATEGORIES:Partnership Education Program (PEP) Events
END:VEVENT
BEGIN:VEVENT
DTSTART;TZID=America/New_York:20240429T000000
DTEND;TZID=America/New_York:20240503T235959
DTSTAMP:20260421T095619
CREATED:20231017T214910Z
LAST-MODIFIED:20240301T213225Z
UID:57829-1714348800-1714780799@www.iaff.org
SUMMARY:Communications Training Academy/Political Training Academy
DESCRIPTION:
URL:https://www.iaff.org/event/communications-training-academy-political-training-academy/
LOCATION:Baltimore\, MD
END:VEVENT
BEGIN:VEVENT
DTSTART;TZID=America/New_York:20240418T000000
DTEND;TZID=America/New_York:20240421T235959
DTSTAMP:20260421T095619
CREATED:20231208T204309Z
LAST-MODIFIED:20240226T200418Z
UID:57837-1713398400-1713743999@www.iaff.org
SUMMARY:IAFF-MG 11th District 2024 Spring Ride
DESCRIPTION:Location\n\n\n\nBest Western Dinosaur Valley Inn and Suites1311 NE Big Bend TrailGlen Rose\, Texas 76043(254) 897-4818 Direct Hotel Line \n\n\n\nRates\n\n\n\n$115.00 KING$125.00 Double Queen \n\n\n\nIAFF MG 11th District 2024 Ride Coordinator: Richard Thompson (806) 670-6542 has a ride plan that everyone should appreciate for the Spring 2024 Ride.
URL:https://www.iaff.org/event/iaff-mg-11th-district-2024-spring-ride/
LOCATION:Glen Rose\, TX
CATEGORIES:Motorcycle Group Events
END:VEVENT
BEGIN:VEVENT
DTSTART;TZID=America/New_York:20240414T000000
DTEND;TZID=America/New_York:20240417T235959
DTSTAMP:20260421T095619
CREATED:20231017T214758Z
LAST-MODIFIED:20240415T183927Z
UID:57828-1713052800-1713398399@www.iaff.org
SUMMARY:Canadian Legislative Conference
DESCRIPTION:
URL:https://www.iaff.org/event/canadian-legislative-conference-24/
LOCATION:Ottawa\, ON
END:VEVENT
BEGIN:VEVENT
DTSTART;TZID=America/New_York:20240408T000000
DTEND;TZID=America/New_York:20240410T235959
DTSTAMP:20260421T095619
CREATED:20240221T181006Z
LAST-MODIFIED:20240328T144522Z
UID:63307-1712534400-1712793599@www.iaff.org
SUMMARY:Lincolnshire\, IL Local 4224 – HRTA Event
DESCRIPTION:
URL:https://www.iaff.org/event/lincolnshire-il-local-4224-hrta-event/
LOCATION:Vernon Hills\, IL
CATEGORIES:Human Relations Technical Assistance (HRTA) Events
END:VEVENT
BEGIN:VEVENT
DTSTART;TZID=America/New_York:20240407T000000
DTEND;TZID=America/New_York:20240410T235959
DTSTAMP:20260421T095619
CREATED:20240129T193053Z
LAST-MODIFIED:20240405T024810Z
UID:57843-1712448000-1712793599@www.iaff.org
SUMMARY:10th District Conference
DESCRIPTION:
URL:https://www.iaff.org/event/iaff-10th-district-conference/
LOCATION:Waikiki\, HI
END:VEVENT
BEGIN:VEVENT
DTSTART;TZID=America/New_York:20240405T000000
DTEND;TZID=America/New_York:20240407T235959
DTSTAMP:20260421T095619
CREATED:20240130T193735Z
LAST-MODIFIED:20240226T212644Z
UID:57844-1712275200-1712534399@www.iaff.org
SUMMARY:IAFF-MG 10th District Spring Opener During the Arizona Bike Week Rally
DESCRIPTION:Please plan to knock off some of the winter accumulation of dust from your bike and attend our 10th District Spring Opener in Mesa Arizona – April 5th\, 6th\, and 7th\, 2024. \n\n\n\nArizona Bike Week https://azbikeweek.com/ runs from 4/3 to 4/7 and we will be getting together with our IAFF-MG brothers and sisters for a few days of riding and camaraderie with the biggest event being our annual participation in the East Valley Fire Fighters Charity Poker Run on 4/6/24. We’ll push out the poker run registration information as soon as it is available (for info only here’s the link to last year’s ride info: https://firefightercharityride.com/) \n\n\n\nHotel Info\n\n\n\n\nWe sourced out the La Quinta hotel at Superstition Springs in Mesa several weeks ago (August) and I hope you booked your rooms then when the rate was $125 because the rates in the entire metro Phoenix area have gone up SIGNIFICANTLY (there’s a good reason to book your hotel early).\n\n\n\nIf you don’t already have a hotel reservation there are still rooms available at the higher rate or it may work out better to get a few folks together to book an AirBnB in the East Mesa/Apache Junction area.\n\n\n\n\n	\n\n	\n	\n		\n			Agenda		\n\n					\n				\n	\n\n	\n			\n		\n			\n\n\n\n\n\n			\n			\n				4/5/24			\n			\n		\n	\n	\n\n	\n		\n			11:00		\n	\n	\n		\n\nWe are planning to meet up on 4/5 at Buddy Stubbs HD at 1100 and then ride out to Cave Creek (Hideaway/Roadhouse) for lunch. \n\n\n\nWe can then make the ride out to Tortilla Flat because why wouldn’t we? \n\n	\n\n\n\n\n	\n		\n			18:00		\n	\n	\n		\n\nDinner and social at B.J’s Brewhouse (next door to the La Quinta) \n\n	\n\n\n\n\n\n\n			\n			\n				4/6/24			\n			\n		\n	\n	\n\n	\n		\n			08:15		\n	\n	\n		\n\nKSU at La Quinta (be fueled and ready for the day ride) \n\n	\n\n\n\n\n	\n		\n			08:30		\n	\n	\n		\n\nWe will meet up at 0830 for the East Valley Fire Fighters Charity Poker Run at Superstition Harley Davidson for registration and breakfast. \n\n	\n\n\n\n\n	\n		\n			09:30		\n	\n	\n		\n\nKSU at 0930 for the poker run. \n\n	\n\n\n\n\n	\n		\n			17:00		\n	\n	\n		\n\nMeet up for dinner and social beverages at Macayo’s Mexican Restaurant at Superstition Springs (next door to La Quinta) \n\n	\n\n\n\n\n\n\n			\n			\n				4/7/24			\n			\n		\n	\n	\n\n	\n		\n			TBD		\n	\n	\n		\n\nMeet up for breakfast/brunch (time and location TBD)
URL:https://www.iaff.org/event/iaff-mg-10th-district-spring-opener-during-the-arizona-bike-week-rally/
LOCATION:Mesa\, AZ
CATEGORIES:Motorcycle Group Events
END:VEVENT
BEGIN:VEVENT
DTSTART;TZID=America/New_York:20240326T120000
DTEND;TZID=America/New_York:20240328T120000
DTSTAMP:20260421T095619
CREATED:20240220T190227Z
LAST-MODIFIED:20240301T213849Z
UID:63027-1711454400-1711627200@www.iaff.org
SUMMARY:Saskatoon Fire Department Local 80 - HRTA Event
DESCRIPTION:
URL:https://www.iaff.org/event/saskatoon-fire-department-local-80-hrta-event/
LOCATION:Saskatoon\, SK\, Canada
CATEGORIES:Human Relations Technical Assistance (HRTA) Events
END:VEVENT
BEGIN:VEVENT
DTSTART;TZID=America/New_York:20240319T000000
DTEND;TZID=America/New_York:20240321T235959
DTSTAMP:20260421T095619
CREATED:20240129T192710Z
LAST-MODIFIED:20240301T213309Z
UID:57842-1710806400-1711065599@www.iaff.org
SUMMARY:IAFF 1st District Conference
DESCRIPTION:
URL:https://www.iaff.org/event/iaff-1st-district-conference/
LOCATION:Atlantic City\, NJ
END:VEVENT
BEGIN:VEVENT
DTSTART;TZID=America/New_York:20240303T000000
DTEND;TZID=America/New_York:20240306T235959
DTSTAMP:20260421T095619
CREATED:20231017T214634Z
LAST-MODIFIED:20240301T213325Z
UID:57827-1709424000-1709769599@www.iaff.org
SUMMARY:U.S. Legislative Conference
DESCRIPTION:
URL:https://www.iaff.org/event/us-legislative-conference/
LOCATION:Washington\, DC
ATTACH;FMTTYPE=image/jpeg:https://www.iaff.org/wp-content/uploads/DSC_7174.jpg
END:VEVENT
BEGIN:VEVENT
DTSTART;TZID=America/New_York:20240226T000000
DTEND;TZID=America/New_York:20240302T235959
DTSTAMP:20260421T095619
CREATED:20240118T231930Z
LAST-MODIFIED:20240301T213319Z
UID:57840-1708905600-1709423999@www.iaff.org
SUMMARY:Louisville Professional Firefighters Local 54 - HRTA Event
DESCRIPTION:
URL:https://www.iaff.org/event/louisville-professional-firefighters-local-54-hrta-event/
LOCATION:Louisville\, KY
END:VEVENT
BEGIN:VEVENT
DTSTART;TZID=America/New_York:20240226T000000
DTEND;TZID=America/New_York:20240226T235959
DTSTAMP:20260421T095619
CREATED:20231128T195935Z
LAST-MODIFIED:20240301T213542Z
UID:57836-1708905600-1708991999@www.iaff.org
SUMMARY:Professional Fire Fighters Union of Indiana - PEP Event
DESCRIPTION:
URL:https://www.iaff.org/event/professional-fire-fighters-union-of-indiana-pep-event-2/
LOCATION:Indianapolis\, IN\, Indianapolis\, IN
END:VEVENT
BEGIN:VEVENT
DTSTART;TZID=America/New_York:20240125T000000
DTEND;TZID=America/New_York:20240128T235959
DTSTAMP:20260421T095619
CREATED:20230329T175323Z
LAST-MODIFIED:20240212T181954Z
UID:57808-1706140800-1706486399@www.iaff.org
SUMMARY:Affiliate Leadership Training Summit (ALTS)/Human Relations Conference (HRC)
DESCRIPTION:Walt Disney World Dolphin Resort \nJan. 24-25: DFSR Training \nJan. 25: Pre-Cons \nJan. 26-28: General Session\, Workshops
URL:https://www.iaff.org/event/affiliate-leadership-training-summit-alts-human-relations-conference-hrc/
LOCATION:Lake Buena Vista\, FL
END:VEVENT
END:VCALENDAR