BEGIN:VCALENDAR
VERSION:2.0
PRODID:-//IAFF - ECPv6.2.9//NONSGML v1.0//EN
CALSCALE:GREGORIAN
METHOD:PUBLISH
X-ORIGINAL-URL:https://www.iaff.org
X-WR-CALDESC:Events for IAFF
REFRESH-INTERVAL;VALUE=DURATION:PT1H
X-Robots-Tag:noindex
X-PUBLISHED-TTL:PT1H
BEGIN:VTIMEZONE
TZID:America/New_York
BEGIN:DAYLIGHT
TZOFFSETFROM:-0500
TZOFFSETTO:-0400
TZNAME:EDT
DTSTART:20220313T070000
END:DAYLIGHT
BEGIN:STANDARD
TZOFFSETFROM:-0400
TZOFFSETTO:-0500
TZNAME:EST
DTSTART:20221106T060000
END:STANDARD
BEGIN:DAYLIGHT
TZOFFSETFROM:-0500
TZOFFSETTO:-0400
TZNAME:EDT
DTSTART:20230312T070000
END:DAYLIGHT
BEGIN:STANDARD
TZOFFSETFROM:-0400
TZOFFSETTO:-0500
TZNAME:EST
DTSTART:20231105T060000
END:STANDARD
END:VTIMEZONE
BEGIN:VEVENT
DTSTART;VALUE=DATE:20230717
DTEND;VALUE=DATE:20230719
DTSTAMP:20240229T104528
CREATED:20230330T193711Z
LAST-MODIFIED:20230501T200509Z
UID:104473-1689552000-1689724799@www.iaff.org
SUMMARY:12th District Conference
DESCRIPTION:
URL:https://www.iaff.org/event/12th-district-conference/
LOCATION:Savannah\, GA
CATEGORIES:Upcoming Events
END:VEVENT
BEGIN:VEVENT
DTSTART;TZID=America/New_York:20230711T123000
DTEND;TZID=America/New_York:20230711T170000
DTSTAMP:20240229T104528
CREATED:20230524T131853Z
LAST-MODIFIED:20230524T131853Z
UID:106815-1689078600-1689094800@www.iaff.org
SUMMARY:PEP Online: New Leadership Skills
DESCRIPTION:
URL:https://www.iaff.org/event/pep-online-new-leadership-skills/
END:VEVENT
BEGIN:VEVENT
DTSTART;VALUE=DATE:20230711
DTEND;VALUE=DATE:20230715
DTSTAMP:20240229T104528
CREATED:20220705T161944Z
LAST-MODIFIED:20230329T175728Z
UID:94946-1689033600-1689379199@www.iaff.org
SUMMARY:IAFF-MG International Motorcycle Rally
DESCRIPTION:
URL:https://www.iaff.org/event/iaff-mg-international-motorcycle-rally-kenosha-wi/
LOCATION:Kenosha\, WI
CATEGORIES:Motorcycle Group Events,Upcoming Events
END:VEVENT
BEGIN:VEVENT
DTSTART;VALUE=DATE:20230628
DTEND;VALUE=DATE:20230629
DTSTAMP:20240229T104528
CREATED:20230509T125953Z
LAST-MODIFIED:20230510T172141Z
UID:105587-1687910400-1687996799@www.iaff.org
SUMMARY:6th District Conference
DESCRIPTION:[vc_row title=”REGISTER” style=”custom” gradient_color_1=”turquoise” gradient_color_2=”blue” gradient_custom_color_1=”#dd3333″ gradient_custom_color_2=”#eeee22″ gradient_text_color=”#ffffff” custom_background=”#d2232a” custom_text=”#ffffff” outline_custom_color=”#666666″ outline_custom_hover_background=”#666666″ outline_custom_hover_text=”#ffffff” shape=”rounded” color=”grey” size=”md” align=”center” button_block=”” add_icon=”” i_align=”left” i_type=”fontawesome” i_icon_the7=”” i_icon_fontawesome=”fas fa-adjust” i_icon_openiconic=”vc-oi vc-oi-dial” i_icon_typicons=”typcn typcn-adjust-brightness” i_icon_entypo=”entypo-icon entypo-icon-note” i_icon_linecons=”vc_li vc_li-heart” i_icon_monosocial=”vc-mono vc-mono-fivehundredpx” i_icon_material=”vc-material vc-material-cake” i_icon_pixelicons=”vc_pixel_icon vc_pixel_icon-alert” custom_onclick=”” smooth_scroll=”” link=”url:https%3A%2F%2Fmy.iaff.org%2FWeb%2FEvents%2FEvent_Display.aspx%3FEventKey%3DPEP2023_04|target:_blank” css=”.vc_custom_1675885243702{margin-bottom: 20px !important;}” custom_onclick_code=””][vc_column][vc_btn title=”REGISTER HERE” style=”custom” custom_background=”#d2232a” custom_text=”#ffffff” shape=”square” align=”left” link=”url:https%3A%2F%2Fmy.iaff.org%2Fweb%2Fevents%2FEvent_display.aspx%3FEventKey%3DPEP2023_06|target:_blank” css=”.vc_custom_1683739284549{margin-bottom: 20px !important;}”][/vc_column][/vc_row]
URL:https://www.iaff.org/event/6th-district-conference/
LOCATION:Burnaby\, BC
END:VEVENT
BEGIN:VEVENT
DTSTART;VALUE=DATE:20230628
DTEND;VALUE=DATE:20230703
DTSTAMP:20240229T104528
CREATED:20220713T134822Z
LAST-MODIFIED:20221026T145012Z
UID:95205-1687910400-1688342399@www.iaff.org
SUMMARY:Granite Mountain Hotshots 10-Year Anniversary – IAFF Ride to Remember
DESCRIPTION:[vc_row][vc_column width=”1/2″][vc_single_image image=”95212″ img_size=”full”][vc_btn title=”About the Hotshots” style=”flat” color=”orange” el_class=”iaff-btn-gold” link=”url:https%3A%2F%2Fazstateparks.com%2Fhotshots%2Fthe-hotshots%2Fabout-the-hotshots|target:_blank”][vc_btn title=”Granite Mountain Hotshots Memorial State Park” style=”flat” color=”orange” el_class=”iaff-btn-gold” link=”url:https%3A%2F%2Fazstateparks.com%2Fhotshots|target:_blank”][/vc_column][vc_column width=”1/2″][/vc_column][vc_column][/vc_column][/vc_row]
URL:https://www.iaff.org/event/granite-mountain-hot-shots-10-year-anniversary-iaff-ride-to-remember/
CATEGORIES:Motorcycle Group Events,Upcoming Events
END:VEVENT
BEGIN:VEVENT
DTSTART;VALUE=DATE:20230626
DTEND;VALUE=DATE:20230628
DTSTAMP:20240229T104528
CREATED:20221026T144719Z
LAST-MODIFIED:20230428T141247Z
UID:98405-1687737600-1687910399@www.iaff.org
SUMMARY:Canadian Policy Conference
DESCRIPTION:
URL:https://www.iaff.org/event/canadian-policy-conference-3/
LOCATION:Burnaby\, BC
END:VEVENT
BEGIN:VEVENT
DTSTART;VALUE=DATE:20230612
DTEND;VALUE=DATE:20230614
DTSTAMP:20240229T104528
CREATED:20230330T193424Z
LAST-MODIFIED:20230412T174007Z
UID:104468-1686528000-1686700799@www.iaff.org
SUMMARY:9th District Conference
DESCRIPTION:
URL:https://www.iaff.org/event/9th-district-conference/
LOCATION:Reno\, NV
CATEGORIES:Upcoming Events
END:VEVENT
BEGIN:VEVENT
DTSTART;VALUE=DATE:20230525
DTEND;VALUE=DATE:20230527
DTSTAMP:20240229T104528
CREATED:20220715T185037Z
LAST-MODIFIED:20230329T182842Z
UID:95317-1684972800-1685145599@www.iaff.org
SUMMARY:4th District Conference
DESCRIPTION:
URL:https://www.iaff.org/event/4th-district-conference/
LOCATION:Norfolk\, VA
CATEGORIES:PEP Events,Upcoming Events
END:VEVENT
BEGIN:VEVENT
DTSTART;VALUE=DATE:20230522
DTEND;VALUE=DATE:20230523
DTSTAMP:20240229T104528
CREATED:20230308T143301Z
LAST-MODIFIED:20230308T143301Z
UID:103633-1684713600-1684799999@www.iaff.org
SUMMARY:Kentucky Professional Fire Fighters - PEP Event
DESCRIPTION:
URL:https://www.iaff.org/event/kentucky-pep-event/
LOCATION:Covington\, KY
CATEGORIES:PEP Events,Upcoming Events
END:VEVENT
BEGIN:VEVENT
DTSTART;VALUE=DATE:20230517
DTEND;VALUE=DATE:20230519
DTSTAMP:20240229T104528
CREATED:20230317T154418Z
LAST-MODIFIED:20230321T153734Z
UID:104040-1684281600-1684454399@www.iaff.org
SUMMARY:14th District Conference (12th District invited)
DESCRIPTION:
URL:https://www.iaff.org/event/14th-district-conference-12th-district-invited/
LOCATION:Gulf Shores\, AL
END:VEVENT
BEGIN:VEVENT
DTSTART;VALUE=DATE:20230327
DTEND;VALUE=DATE:20230329
DTSTAMP:20240229T104528
CREATED:20221026T144556Z
LAST-MODIFIED:20230214T210222Z
UID:98403-1679875200-1680047999@www.iaff.org
SUMMARY:Canadian Legislative Conference
DESCRIPTION:
URL:https://www.iaff.org/event/canadian-legislative-conference-3/
LOCATION:Ottawa\, ON\, Canada
END:VEVENT
BEGIN:VEVENT
DTSTART;VALUE=DATE:20230305
DTEND;VALUE=DATE:20230308
DTSTAMP:20240229T104528
CREATED:20220902T144058Z
LAST-MODIFIED:20230117T202736Z
UID:96740-1677974400-1678233599@www.iaff.org
SUMMARY:Legislative Conference
DESCRIPTION:
URL:https://www.iaff.org/event/legislative-conference-2/
LOCATION:Washington\, DC
END:VEVENT
BEGIN:VEVENT
DTSTART;VALUE=DATE:20230220
DTEND;VALUE=DATE:20230221
DTSTAMP:20240229T104528
CREATED:20221202T151442Z
LAST-MODIFIED:20221202T151442Z
UID:100364-1676851200-1676937599@www.iaff.org
SUMMARY:Professional Fire Fighters Union of Indiana (PFUI) PEP Event
DESCRIPTION:
URL:https://www.iaff.org/event/professional-fire-fighters-union-of-indiana-pep-event/
LOCATION:Indianapolis\, IN
CATEGORIES:PEP Events,Upcoming Events
END:VEVENT
BEGIN:VEVENT
DTSTART;VALUE=DATE:20230213
DTEND;VALUE=DATE:20230214
DTSTAMP:20240229T104528
CREATED:20230112T191815Z
LAST-MODIFIED:20230112T191815Z
UID:101626-1676246400-1676332799@www.iaff.org
SUMMARY:DC Fire Fighters Association\, Local 36 - PEP Event
DESCRIPTION:
URL:https://www.iaff.org/event/dc-fire-fighters-association-local-36-pep-event/
LOCATION:Washington\, DC
CATEGORIES:PEP Events,Upcoming Events
END:VEVENT
BEGIN:VEVENT
DTSTART;VALUE=DATE:20230129
DTEND;VALUE=DATE:20230202
DTSTAMP:20240229T104528
CREATED:20220902T142725Z
LAST-MODIFIED:20221117T190140Z
UID:96738-1674950400-1675295999@www.iaff.org
SUMMARY:Affiliate Leadership Training Summit (ALTS)
DESCRIPTION:
URL:https://www.iaff.org/event/affiliate-leadership-training-summit-alts-2/
LOCATION:Las Vegas\, NV
END:VEVENT
BEGIN:VEVENT
DTSTART;VALUE=DATE:20230109
DTEND;VALUE=DATE:20230110
DTSTAMP:20240229T104528
CREATED:20221202T151313Z
LAST-MODIFIED:20221216T194530Z
UID:100361-1673222400-1673308799@www.iaff.org
SUMMARY:Oregon State Fire Fighters Council PEP Event
DESCRIPTION:
URL:https://www.iaff.org/event/oregon-state-fire-fighters-council-pep-event/
LOCATION:Salem\, OR
CATEGORIES:PEP Events,Upcoming Events
END:VEVENT
BEGIN:VEVENT
DTSTART;VALUE=DATE:20221215
DTEND;VALUE=DATE:20221216
DTSTAMP:20240229T104528
CREATED:20221020T155359Z
LAST-MODIFIED:20221020T155359Z
UID:98026-1671062400-1671148799@www.iaff.org
SUMMARY:IAFF-FC New Initiative Information Session
DESCRIPTION:
URL:https://www.iaff.org/event/iaff-fc-new-initiative-information-session-9/
LOCATION:Las Vegas\, NV
END:VEVENT
BEGIN:VEVENT
DTSTART;VALUE=DATE:20221213
DTEND;VALUE=DATE:20221214
DTSTAMP:20240229T104528
CREATED:20221020T155101Z
LAST-MODIFIED:20221020T155745Z
UID:98023-1670889600-1670975999@www.iaff.org
SUMMARY:IAFF-FC New Initiative Information Session
DESCRIPTION:
URL:https://www.iaff.org/event/iaff-fc-new-initiative-information-session-8/
LOCATION:Palm Springs\, CA
END:VEVENT
BEGIN:VEVENT
DTSTART;VALUE=DATE:20221212
DTEND;VALUE=DATE:20221214
DTSTAMP:20240229T104528
CREATED:20221019T185305Z
LAST-MODIFIED:20221019T185305Z
UID:97981-1670803200-1670975999@www.iaff.org
SUMMARY:Wellness-Fitness Task Force Meeting (Invite Only)
DESCRIPTION:
URL:https://www.iaff.org/event/wellness-fitness-task-force-meeting-invite-only/
LOCATION:Washington\, DC
END:VEVENT
BEGIN:VEVENT
DTSTART;VALUE=DATE:20221201
DTEND;VALUE=DATE:20221202
DTSTAMP:20240229T104528
CREATED:20221020T154806Z
LAST-MODIFIED:20221020T154916Z
UID:98020-1669852800-1669939199@www.iaff.org
SUMMARY:IAFF-FC New Initiative Information Session
DESCRIPTION:
URL:https://www.iaff.org/event/iaff-fc-new-initiative-information-session-7/
LOCATION:Hollywood/Ft. Lauderdale\, FL
END:VEVENT
BEGIN:VEVENT
DTSTART;VALUE=DATE:20221129
DTEND;VALUE=DATE:20221130
DTSTAMP:20240229T104528
CREATED:20221020T154623Z
LAST-MODIFIED:20221020T154623Z
UID:98017-1669680000-1669766399@www.iaff.org
SUMMARY:IAFF-FC New Initiative Information Session
DESCRIPTION:
URL:https://www.iaff.org/event/iaff-fc-new-initiative-information-session-6/
LOCATION:Dallas/Ft. Worth\, TX
END:VEVENT
BEGIN:VEVENT
DTSTART;VALUE=DATE:20221121
DTEND;VALUE=DATE:20221123
DTSTAMP:20240229T104528
CREATED:20220406T214808Z
LAST-MODIFIED:20221025T144155Z
UID:91772-1668988800-1669161599@www.iaff.org
SUMMARY:8th District PEP Training Event
DESCRIPTION:
URL:https://www.iaff.org/event/8th-district-pep-training-event/
LOCATION:Indianapolis\, IN
CATEGORIES:PEP Events,Upcoming Events
END:VEVENT
BEGIN:VEVENT
DTSTART;VALUE=DATE:20221117
DTEND;VALUE=DATE:20221118
DTSTAMP:20240229T104528
CREATED:20221020T154400Z
LAST-MODIFIED:20221020T154400Z
UID:98015-1668643200-1668729599@www.iaff.org
SUMMARY:IAFF-FC New Initiative Information Session
DESCRIPTION:
URL:https://www.iaff.org/event/iaff-fc-new-initiative-information-session-5/
LOCATION:Washington\, DC
END:VEVENT
BEGIN:VEVENT
DTSTART;VALUE=DATE:20221114
DTEND;VALUE=DATE:20221115
DTSTAMP:20240229T104528
CREATED:20220301T184516Z
LAST-MODIFIED:20220815T172331Z
UID:90645-1668384000-1668470399@www.iaff.org
SUMMARY:UPFFA of Connecticut PEP Training Event
DESCRIPTION:
URL:https://www.iaff.org/event/upffa-of-connecticut-pep-training-event/
LOCATION:Mashantucket\, CT
CATEGORIES:PEP Events,Upcoming Events
END:VEVENT
BEGIN:VEVENT
DTSTART;VALUE=DATE:20221103
DTEND;VALUE=DATE:20221104
DTSTAMP:20240229T104528
CREATED:20221020T154216Z
LAST-MODIFIED:20221020T154216Z
UID:98013-1667433600-1667519999@www.iaff.org
SUMMARY:IAFF-FC New Initiative Information Session
DESCRIPTION:
URL:https://www.iaff.org/event/iaff-fc-new-initiative-information-session-4/
LOCATION:New York\, NY
END:VEVENT
BEGIN:VEVENT
DTSTART;VALUE=DATE:20221101
DTEND;VALUE=DATE:20221102
DTSTAMP:20240229T104528
CREATED:20221020T153954Z
LAST-MODIFIED:20221020T153954Z
UID:98010-1667260800-1667347199@www.iaff.org
SUMMARY:IAFF-FC New Initiative Information Session
DESCRIPTION:
URL:https://www.iaff.org/event/iaff-fc-new-initiative-information-session-3/
LOCATION:Columbus\, OH
END:VEVENT
BEGIN:VEVENT
DTSTART;VALUE=DATE:20221027
DTEND;VALUE=DATE:20221028
DTSTAMP:20240229T104528
CREATED:20221020T153700Z
LAST-MODIFIED:20221020T153700Z
UID:98007-1666828800-1666915199@www.iaff.org
SUMMARY:IAFF-FC New Initiative Information Session
DESCRIPTION:
URL:https://www.iaff.org/event/iaff-fc-new-initiative-information-session-2/
LOCATION:Denver\, CO
END:VEVENT
BEGIN:VEVENT
DTSTART;VALUE=DATE:20221025
DTEND;VALUE=DATE:20221026
DTSTAMP:20240229T104528
CREATED:20221020T153415Z
LAST-MODIFIED:20221020T153415Z
UID:98004-1666656000-1666742399@www.iaff.org
SUMMARY:IAFF-FC New Initiative Information Session
DESCRIPTION:
URL:https://www.iaff.org/event/iaff-fc-new-initiative-information-session/
LOCATION:Portland\, OR
END:VEVENT
BEGIN:VEVENT
DTSTART;VALUE=DATE:20221025
DTEND;VALUE=DATE:20221026
DTSTAMP:20240229T104528
CREATED:20220829T133708Z
LAST-MODIFIED:20220829T133708Z
UID:96562-1666656000-1666742399@www.iaff.org
SUMMARY:PEP Online: Legal Issues Track
DESCRIPTION:
URL:https://www.iaff.org/event/pep-online-legal-issues-track/
LOCATION:Virtual
CATEGORIES:PEP Events,Upcoming Events
END:VEVENT
BEGIN:VEVENT
DTSTART;VALUE=DATE:20221024
DTEND;VALUE=DATE:20221026
DTSTAMP:20240229T104528
CREATED:20220406T214443Z
LAST-MODIFIED:20220923T140949Z
UID:91768-1666569600-1666742399@www.iaff.org
SUMMARY:10th District PEP Training Event
DESCRIPTION:
URL:https://www.iaff.org/event/10th-district-pep-training-event/
LOCATION:San Francisco\, CA
CATEGORIES:PEP Events,Upcoming Events
END:VEVENT
END:VCALENDAR