BEGIN:VCALENDAR
VERSION:2.0
PRODID:-//IAFF - ECPv6.15.17.1//NONSGML v1.0//EN
CALSCALE:GREGORIAN
METHOD:PUBLISH
X-WR-CALNAME:IAFF
X-ORIGINAL-URL:https://www.iaff.org
X-WR-CALDESC:Events for IAFF
REFRESH-INTERVAL;VALUE=DURATION:PT1H
X-Robots-Tag:noindex
X-PUBLISHED-TTL:PT1H
BEGIN:VTIMEZONE
TZID:America/New_York
BEGIN:DAYLIGHT
TZOFFSETFROM:-0500
TZOFFSETTO:-0400
TZNAME:EDT
DTSTART:20230312T070000
END:DAYLIGHT
BEGIN:STANDARD
TZOFFSETFROM:-0400
TZOFFSETTO:-0500
TZNAME:EST
DTSTART:20231105T060000
END:STANDARD
BEGIN:DAYLIGHT
TZOFFSETFROM:-0500
TZOFFSETTO:-0400
TZNAME:EDT
DTSTART:20240310T070000
END:DAYLIGHT
BEGIN:STANDARD
TZOFFSETFROM:-0400
TZOFFSETTO:-0500
TZNAME:EST
DTSTART:20241103T060000
END:STANDARD
BEGIN:DAYLIGHT
TZOFFSETFROM:-0500
TZOFFSETTO:-0400
TZNAME:EDT
DTSTART:20250309T070000
END:DAYLIGHT
BEGIN:STANDARD
TZOFFSETFROM:-0400
TZOFFSETTO:-0500
TZNAME:EST
DTSTART:20251102T060000
END:STANDARD
BEGIN:DAYLIGHT
TZOFFSETFROM:-0500
TZOFFSETTO:-0400
TZNAME:EDT
DTSTART:20260308T070000
END:DAYLIGHT
BEGIN:STANDARD
TZOFFSETFROM:-0400
TZOFFSETTO:-0500
TZNAME:EST
DTSTART:20261101T060000
END:STANDARD
END:VTIMEZONE
BEGIN:VEVENT
DTSTART;TZID=America/New_York:20250618T000000
DTEND;TZID=America/New_York:20250620T235959
DTSTAMP:20260419T112048
CREATED:20241205T142923Z
LAST-MODIFIED:20250407T142148Z
UID:81218-1750204800-1750463999@www.iaff.org
SUMMARY:Jack Jessop Biennial Canadian Policy Conference
DESCRIPTION:Note: Elections for the two Canadian representatives on the IAFF Elected Human Relations Committee will take place at this event.
URL:https://www.iaff.org/event/jack-jessop-biennial-canadian-policy-conference/
LOCATION:Windsor\, ON
END:VEVENT
BEGIN:VEVENT
DTSTART;TZID=America/New_York:20250530T000000
DTEND;TZID=America/New_York:20250530T235959
DTSTAMP:20260419T112048
CREATED:20250131T164058Z
LAST-MODIFIED:20250515T182049Z
UID:83536-1748563200-1748649599@www.iaff.org
SUMMARY:Professional Fire Fighters of Arizona - PEP Event
DESCRIPTION:
URL:https://www.iaff.org/event/professional-fire-fighters-of-arizona-pep-event/
LOCATION:Tucson\, AZ
CATEGORIES:Partnership Education Program (PEP) Events
END:VEVENT
BEGIN:VEVENT
DTSTART;TZID=America/New_York:20250512T000000
DTEND;TZID=America/New_York:20250514T235959
DTSTAMP:20260419T112048
CREATED:20250131T164312Z
LAST-MODIFIED:20250210T172434Z
UID:83541-1747008000-1747267199@www.iaff.org
SUMMARY:14th District Conference
DESCRIPTION:
URL:https://www.iaff.org/event/14th-district-conference/
LOCATION:Gulf Shores\, AL
END:VEVENT
BEGIN:VEVENT
DTSTART;TZID=America/New_York:20250417T000000
DTEND;TZID=America/New_York:20250417T235959
DTSTAMP:20260419T112048
CREATED:20250107T162735Z
LAST-MODIFIED:20250206T145409Z
UID:82185-1744848000-1744934399@www.iaff.org
SUMMARY:United Goodyear Fire Fighters Local 4005 - HRTA Event
DESCRIPTION:
URL:https://www.iaff.org/event/united-goodyear-fire-fighters-local-4005-hrta-event/
LOCATION:Goodyear\, AZ
CATEGORIES:Human Relations Technical Assistance (HRTA) Events
END:VEVENT
BEGIN:VEVENT
DTSTART;TZID=America/New_York:20250302T000000
DTEND;TZID=America/New_York:20250305T235959
DTSTAMP:20260419T112048
CREATED:20240924T183833Z
LAST-MODIFIED:20250123T180020Z
UID:78359-1740873600-1741219199@www.iaff.org
SUMMARY:U.S. Legislative Conference
DESCRIPTION:
URL:https://www.iaff.org/event/u-s-legislative-conference/
LOCATION:Washington\, DC
END:VEVENT
BEGIN:VEVENT
DTSTART;TZID=America/New_York:20250113T000000
DTEND;TZID=America/New_York:20250113T235959
DTSTAMP:20260419T112048
CREATED:20241127T142901Z
LAST-MODIFIED:20241205T171604Z
UID:81147-1736726400-1736812799@www.iaff.org
SUMMARY:Oregon State Fire Fighters Council - PEP Event
DESCRIPTION:
URL:https://www.iaff.org/event/oregon-state-fire-fighters-council-pep-event/
LOCATION:Salem\, OR
CATEGORIES:Partnership Education Program (PEP) Events
END:VEVENT
BEGIN:VEVENT
DTSTART;TZID=America/New_York:20250105T000000
DTEND;TZID=America/New_York:20250108T235959
DTSTAMP:20260419T112048
CREATED:20240924T183406Z
LAST-MODIFIED:20241202T183801Z
UID:78354-1736035200-1736380799@www.iaff.org
SUMMARY:Affiliate Leadership Training Summit (ALTS)
DESCRIPTION:
URL:https://www.iaff.org/event/affiliate-leadership-training-summit-alts/
LOCATION:New Orleans\, LA
END:VEVENT
BEGIN:VEVENT
DTSTART;TZID=America/New_York:20241029T000000
DTEND;TZID=America/New_York:20241029T235959
DTSTAMP:20260419T112048
CREATED:20240812T192711Z
LAST-MODIFIED:20240812T192714Z
UID:75688-1730160000-1730246399@www.iaff.org
SUMMARY:PEP Online
DESCRIPTION:
URL:https://www.iaff.org/event/pep-online-3/
LOCATION:Online via Zoom
CATEGORIES:Partnership Education Program (PEP) Events
END:VEVENT
BEGIN:VEVENT
DTSTART;TZID=America/New_York:20241029T000000
DTEND;TZID=America/New_York:20241029T235959
DTSTAMP:20260419T112048
CREATED:20240617T185124Z
LAST-MODIFIED:20240628T135328Z
UID:73695-1730160000-1730246399@www.iaff.org
SUMMARY:Michigan PEP Event
DESCRIPTION:
URL:https://www.iaff.org/event/michigan-pep-event/
LOCATION:Novi\, MI
CATEGORIES:Partnership Education Program (PEP) Events
END:VEVENT
BEGIN:VEVENT
DTSTART;TZID=America/New_York:20241022T000000
DTEND;TZID=America/New_York:20241022T235959
DTSTAMP:20260419T112048
CREATED:20240812T192617Z
LAST-MODIFIED:20240812T192620Z
UID:75686-1729555200-1729641599@www.iaff.org
SUMMARY:PEP Online
DESCRIPTION:
URL:https://www.iaff.org/event/pep-online-2/
LOCATION:Online via Zoom
CATEGORIES:Partnership Education Program (PEP) Events
END:VEVENT
BEGIN:VEVENT
DTSTART;TZID=America/New_York:20241010T000000
DTEND;TZID=America/New_York:20241013T235959
DTSTAMP:20260419T112048
CREATED:20231208T204648Z
LAST-MODIFIED:20240226T200024Z
UID:57838-1728518400-1728863999@www.iaff.org
SUMMARY:IAFF-MG 11th District 2024 Fall Ride
DESCRIPTION:Location\n\n\n\nPort of Kimberling City Marina and Resort201 Marina WayKimberling City\, Missouri 65686(417) 739-2315https://portofkimberling.com \n\n\n\nRates\n\n\n\nPENDING \n\n\n\nIAFF MG 11th District 2024 Ride Coordinator: Richard Thompson (806) 670-6542 has a ride plan that everyone should appreciate for the Fall 2024 Ride.
URL:https://www.iaff.org/event/iaff-mg-11th-district-2024-fall-ride/
LOCATION:Kimberling City\, Missouri
CATEGORIES:Motorcycle Group Events
END:VEVENT
BEGIN:VEVENT
DTSTART;TZID=America/New_York:20241008T000000
DTEND;TZID=America/New_York:20241008T235959
DTSTAMP:20260419T112048
CREATED:20240812T192436Z
LAST-MODIFIED:20240812T192537Z
UID:75683-1728345600-1728431999@www.iaff.org
SUMMARY:PEP Online
DESCRIPTION:
URL:https://www.iaff.org/event/pep-online/
LOCATION:Online via Zoom
CATEGORIES:Partnership Education Program (PEP) Events
END:VEVENT
BEGIN:VEVENT
DTSTART;TZID=America/New_York:20240921T000000
DTEND;TZID=America/New_York:20240921T235959
DTSTAMP:20260419T112048
CREATED:20231017T215349Z
LAST-MODIFIED:20240301T213204Z
UID:57833-1726876800-1726963199@www.iaff.org
SUMMARY:Fallen Fire Fighter Memorial
DESCRIPTION:
URL:https://www.iaff.org/event/fallen-fire-fighter-memorial-3/
LOCATION:Colorado Springs\, CO 
END:VEVENT
BEGIN:VEVENT
DTSTART;TZID=America/New_York:20240919T000000
DTEND;TZID=America/New_York:20240922T235959
DTSTAMP:20260419T112048
CREATED:20240429T132216Z
LAST-MODIFIED:20240429T133042Z
UID:72255-1726704000-1727049599@www.iaff.org
SUMMARY:IAFF-MG Ride of Honor
DESCRIPTION:Hotel\n\n\n\nDoubleTree by Hilton Colorado Springs \n\n\n\nGroup Name: IAFF Foundation – Motorcycle GroupGroup Code: MAFArrival Date: 2024-09-19Departure Date: 2024-09-22Booking  \n\n\n\nDETAILS\n\n\n\n9/19 – Arrive Colorado Springs \n\n\n\n\n1800 IAFFMG Meet and Greet at Doubletree Hotel in the courtyard.\n\n\n\n\n9/20 – IAFFMG Colorado Chapter coordinated day ride \n\n\n\n9/21 – IAFF Ride of Honor and Fallen Fire Fighters Memorial \n\n\n\n\n0800 IAFFMG prestaging at 2864 S. Circle Drive (IRS offices parking lot)\n\nRide waivers will be signed at this location.\n\n\n\n\n\n0830 IAFFMG members will ride as a group to the main staging location.\n\nUniversity Village Mall – 5262 N Nevada Ave\, Colorado Springs\, CO 80918\n\n\n\n\n\n1000 KSU for the Ride of Honor to the IAFF Fallen Fire Fighters Memorial
URL:https://www.iaff.org/event/iaff-mg-ride-of-honor/
LOCATION:Colorado Springs\, CO 
CATEGORIES:Motorcycle Group Events
END:VEVENT
BEGIN:VEVENT
DTSTART;TZID=America/New_York:20240913T000000
DTEND;TZID=America/New_York:20240916T235959
DTSTAMP:20260419T112048
CREATED:20231122T195842Z
LAST-MODIFIED:20240311T183808Z
UID:57834-1726185600-1726531199@www.iaff.org
SUMMARY:IAFF-MG International Motorcycle Rally
DESCRIPTION:With a landscape dominated by the Appalachian Mountains to the east\, rivers\, and streams to the west and dense\, hilly forests in the central part of the state\, Tennessee has all of the geographical and geological ingredients needed to give birth to some truly epic motorcycle roads. With such a varying landscape from east to west\, Tennessee provides a full spectrum of options when it comes to motorcycle rides. \n\n\n\nThat is why this year\, the IAFF-MG’s Standing Committee has selected Kingsport\, Tennessee\, as our destination for our 2024 International Motorcycle Rally\, Sept. 13-16\, 2024. \n\n\n\nWorking with our 14th District Committee Member Ed Jaros\, our TN State Coordinator Kevin Mitchell\, and our Event Planning Sub-Committee\, we are in the process of putting the logistics for our 2024 rally. \n\n\n\nIAFF-MG Rally merchandise will be sold through the IAFF’s new Online Store and will be available onsite at the rally. \n\n\n\nWe will post a schedule of events as they become available. \n\n\n\nHotel\n\n\n\nMeadowView Conference Resort & Convention Center$149/night \n\n\n\nBook your room
URL:https://www.iaff.org/event/iaff-mg-international-motorcycle-rally/
LOCATION:Kingsport\, Tennessee
CATEGORIES:Motorcycle Group Events
ATTACH;FMTTYPE=image/png:https://www.iaff.org/wp-content/uploads/2023/11/2024-IAFF-MG-Rally-Logo-TN.png
END:VEVENT
BEGIN:VEVENT
DTSTART;TZID=America/New_York:20240825T000000
DTEND;TZID=America/New_York:20240830T235959
DTSTAMP:20260419T112048
CREATED:20231017T215231Z
LAST-MODIFIED:20240412T145226Z
UID:57832-1724544000-1725062399@www.iaff.org
SUMMARY:Convention 2024
DESCRIPTION:
URL:https://www.iaff.org/event/2024-convention/
LOCATION:Boston\, MA
END:VEVENT
BEGIN:VEVENT
DTSTART;TZID=America/New_York:20240807T000000
DTEND;TZID=America/New_York:20240807T235959
DTSTAMP:20260419T112048
CREATED:20240703T162545Z
LAST-MODIFIED:20240703T162548Z
UID:74003-1722988800-1723075199@www.iaff.org
SUMMARY:DOE: Responding to Batteries and Energy Issues
DESCRIPTION:
URL:https://www.iaff.org/event/doe-responding-to-batteries-and-energy-issues/
LOCATION:Long Beach\, CA
END:VEVENT
BEGIN:VEVENT
DTSTART;TZID=America/New_York:20240731T090000
DTEND;TZID=America/New_York:20240731T160000
DTSTAMP:20260419T112048
CREATED:20240415T142421Z
LAST-MODIFIED:20240425T141007Z
UID:71501-1722416400-1722441600@www.iaff.org
SUMMARY:Responding to Renewable Energy Issues Class
DESCRIPTION:The IAFF is hosting a FREE class from the IAFF’s DOE Project on Responding to Renewable Energy Issues on July 31\, 2024 from 9 a.m. – 4 p.m.   \n\n\n\nTopics include Energy Storage Systems (ESS) & Lithium-ion Battery Emergencies. 
URL:https://www.iaff.org/event/responding-to-renewable-energy-issues-class/
LOCATION:Orlando\, FL\, 6969 Venture Circle (Orange County Fire Fighter Association Local 2057 Union Hall)\, Orlando\, Florida\, 32807\, United States
END:VEVENT
BEGIN:VEVENT
DTSTART;TZID=America/New_York:20240725T000000
DTEND;TZID=America/New_York:20240725T235959
DTSTAMP:20260419T112048
CREATED:20240703T162927Z
LAST-MODIFIED:20240703T163106Z
UID:74007-1721865600-1721951999@www.iaff.org
SUMMARY:DOE: Responding to Batteries and Energy Issues
DESCRIPTION:
URL:https://www.iaff.org/event/doe-responding-to-batteries-and-energy-issues-2/
LOCATION:San Francisco\, CA
END:VEVENT
BEGIN:VEVENT
DTSTART;TZID=America/New_York:20240723T123000
DTEND;TZID=America/New_York:20240723T170000
DTSTAMP:20260419T112048
CREATED:20240506T201155Z
LAST-MODIFIED:20240506T201237Z
UID:72431-1721737800-1721754000@www.iaff.org
SUMMARY:PEP/Human Relations Online
DESCRIPTION:
URL:https://www.iaff.org/event/pep-human-relations-online-7-23/
LOCATION:Online via Zoom
CATEGORIES:Partnership Education Program (PEP) Events
END:VEVENT
BEGIN:VEVENT
DTSTART;TZID=America/New_York:20240716T123000
DTEND;TZID=America/New_York:20240716T170000
DTSTAMP:20260419T112048
CREATED:20240506T201054Z
LAST-MODIFIED:20240506T201057Z
UID:72429-1721133000-1721149200@www.iaff.org
SUMMARY:PEP/Human Relations Online
DESCRIPTION:
URL:https://www.iaff.org/event/pep-human-relations-online-7-16/
LOCATION:Online via Zoom
CATEGORIES:Partnership Education Program (PEP) Events
END:VEVENT
BEGIN:VEVENT
DTSTART;TZID=America/New_York:20240716T000000
DTEND;TZID=America/New_York:20240718T235959
DTSTAMP:20260419T112048
CREATED:20240415T133653Z
LAST-MODIFIED:20240415T163411Z
UID:71478-1721088000-1721347199@www.iaff.org
SUMMARY:4th District Conference
DESCRIPTION:
URL:https://www.iaff.org/event/4th-district-conference/
LOCATION:Philadelphia\, PA
CATEGORIES:Partnership Education Program (PEP) Events
END:VEVENT
BEGIN:VEVENT
DTSTART;TZID=America/New_York:20240709T123000
DTEND;TZID=America/New_York:20240709T170000
DTSTAMP:20260419T112048
CREATED:20240506T200424Z
LAST-MODIFIED:20240506T200943Z
UID:72427-1720528200-1720544400@www.iaff.org
SUMMARY:PEP/Human Relations Online
DESCRIPTION:
URL:https://www.iaff.org/event/pep-human-relations-online-7-9/
LOCATION:Online via Zoom
CATEGORIES:Partnership Education Program (PEP) Events
END:VEVENT
BEGIN:VEVENT
DTSTART;TZID=America/New_York:20240709T000000
DTEND;TZID=America/New_York:20240710T235959
DTSTAMP:20260419T112048
CREATED:20240417T155533Z
LAST-MODIFIED:20240506T184242Z
UID:71679-1720483200-1720655999@www.iaff.org
SUMMARY:Challenges of the Built Environment Workshop
DESCRIPTION:
URL:https://www.iaff.org/event/challenges-of-the-built-environment-workshop-wa/
LOCATION:Spokane\, WA
END:VEVENT
BEGIN:VEVENT
DTSTART;TZID=America/New_York:20240626T000000
DTEND;TZID=America/New_York:20240627T235959
DTSTAMP:20260419T112048
CREATED:20240415T134444Z
LAST-MODIFIED:20240415T134449Z
UID:71488-1719360000-1719532799@www.iaff.org
SUMMARY:13th District Conference
DESCRIPTION:
URL:https://www.iaff.org/event/13th-district-conference/
LOCATION:Ontario\, Canada
END:VEVENT
BEGIN:VEVENT
DTSTART;TZID=America/New_York:20240618T000000
DTEND;TZID=America/New_York:20240619T235959
DTSTAMP:20260419T112048
CREATED:20231017T215115Z
LAST-MODIFIED:20240415T163400Z
UID:57831-1718668800-1718841599@www.iaff.org
SUMMARY:3rd District Conference
DESCRIPTION:
URL:https://www.iaff.org/event/3rd-district-conference/
LOCATION:Mashantucket\, CT
CATEGORIES:Partnership Education Program (PEP) Events
END:VEVENT
BEGIN:VEVENT
DTSTART;TZID=America/New_York:20240611T000000
DTEND;TZID=America/New_York:20240612T235959
DTSTAMP:20260419T112048
CREATED:20240417T155222Z
LAST-MODIFIED:20240417T155332Z
UID:71670-1718064000-1718236799@www.iaff.org
SUMMARY:Challenges of the Built Environment Workshop
DESCRIPTION:
URL:https://www.iaff.org/event/challenges-of-the-built-environment-workshop/
LOCATION:Cleveland\, OH
END:VEVENT
BEGIN:VEVENT
DTSTART;TZID=America/New_York:20240529T000000
DTEND;TZID=America/New_York:20240531T235959
DTSTAMP:20260419T112048
CREATED:20231017T215007Z
LAST-MODIFIED:20240326T191312Z
UID:57830-1716940800-1717199999@www.iaff.org
SUMMARY:5th District Conference
DESCRIPTION:
URL:https://www.iaff.org/event/iaff-5th-district-conference/
LOCATION:Minneapolis\, MN
END:VEVENT
BEGIN:VEVENT
DTSTART;TZID=America/New_York:20240514T000000
DTEND;TZID=America/New_York:20240515T235959
DTSTAMP:20260419T112048
CREATED:20240417T155022Z
LAST-MODIFIED:20240417T155028Z
UID:71668-1715644800-1715817599@www.iaff.org
SUMMARY:Responding to Renewable Energy Issues Workshop
DESCRIPTION:
URL:https://www.iaff.org/event/responding-to-renewable-energy-issues-workshop/
LOCATION:Boston\, MA
END:VEVENT
BEGIN:VEVENT
DTSTART;TZID=America/New_York:20240508T080000
DTEND;TZID=America/New_York:20240508T170000
DTSTAMP:20260419T112048
CREATED:20240328T145023Z
LAST-MODIFIED:20240328T145027Z
UID:70001-1715155200-1715187600@www.iaff.org
SUMMARY:Saskatchewan Prof. Fire Fighters & Paramedics - PEP Event
DESCRIPTION:
URL:https://www.iaff.org/event/saskatchewan-prof-fire-fighters-paramedics-pep-event/
LOCATION:Saskatoon\, SK\, Canada
CATEGORIES:Partnership Education Program (PEP) Events
END:VEVENT
END:VCALENDAR