BEGIN:VCALENDAR
VERSION:2.0
PRODID:-//IAFF - ECPv6.2.9//NONSGML v1.0//EN
CALSCALE:GREGORIAN
METHOD:PUBLISH
X-WR-CALNAME:IAFF
X-ORIGINAL-URL:https://www.iaff.org
X-WR-CALDESC:Events for IAFF
REFRESH-INTERVAL;VALUE=DURATION:PT1H
X-Robots-Tag:noindex
X-PUBLISHED-TTL:PT1H
BEGIN:VTIMEZONE
TZID:America/New_York
BEGIN:DAYLIGHT
TZOFFSETFROM:-0500
TZOFFSETTO:-0400
TZNAME:EDT
DTSTART:20180311T070000
END:DAYLIGHT
BEGIN:STANDARD
TZOFFSETFROM:-0400
TZOFFSETTO:-0500
TZNAME:EST
DTSTART:20181104T060000
END:STANDARD
BEGIN:DAYLIGHT
TZOFFSETFROM:-0500
TZOFFSETTO:-0400
TZNAME:EDT
DTSTART:20190310T070000
END:DAYLIGHT
BEGIN:STANDARD
TZOFFSETFROM:-0400
TZOFFSETTO:-0500
TZNAME:EST
DTSTART:20191103T060000
END:STANDARD
BEGIN:DAYLIGHT
TZOFFSETFROM:-0500
TZOFFSETTO:-0400
TZNAME:EDT
DTSTART:20200308T070000
END:DAYLIGHT
BEGIN:STANDARD
TZOFFSETFROM:-0400
TZOFFSETTO:-0500
TZNAME:EST
DTSTART:20201101T060000
END:STANDARD
END:VTIMEZONE
BEGIN:VEVENT
DTSTART;VALUE=DATE:20200322
DTEND;VALUE=DATE:20200329
DTSTAMP:20240229T154647
CREATED:20181011T194338Z
LAST-MODIFIED:20191120T161858Z
UID:484-1584835200-1585439999@www.iaff.org
SUMMARY:Political Training Academy
DESCRIPTION:Developed through FIREPAC\, the A. Michael Mullane Political Training Academy educates and assists campaign veterans and political newcomers alike on how to run for elected office\, manage a political campaign or direct an affiliate’s political action program. \nView More
URL:https://www.iaff.org/event/a-michael-mullane-political-training-academy/
LOCATION:Silver Spring\, MD
CATEGORIES:Upcoming Events
END:VEVENT
BEGIN:VEVENT
DTSTART;VALUE=DATE:20200308
DTEND;VALUE=DATE:20200312
DTSTAMP:20240229T154647
CREATED:20190820T141359Z
LAST-MODIFIED:20200107T170544Z
UID:38107-1583625600-1583971199@www.iaff.org
SUMMARY:Legislative Conference
DESCRIPTION:[vc_row][vc_column][vc_column_text css=”.vc_custom_1578406071463{margin-bottom: 15px !important;}”]The dynamic environment in Washington\, DC\, makes advocacy work more important than ever. At the 2020 IAFF Legislative Conference\, you will learn more about the current political landscape and its impact on programs and policies that affect fire fighters. The conference will guide you through the challenges and opportunities facing fire fighters on Capitol Hill and in the White House.[/vc_column_text][vc_btn title=”Register” style=”flat” color=”juicy-pink” link=”url:https%3A%2F%2Fmember.iaff.org%2FEventRegistration%2F%3FmeetingId%3DLEG2020||target:%20_blank|”][/vc_column][/vc_row]
URL:https://www.iaff.org/event/2020-legislative-conference/
LOCATION:Washington\, DC
CATEGORIES:Upcoming Events
END:VEVENT
BEGIN:VEVENT
DTSTART;VALUE=DATE:20200119
DTEND;VALUE=DATE:20200123
DTSTAMP:20240229T154647
CREATED:20191024T170250Z
LAST-MODIFIED:20191113T185030Z
UID:44323-1579392000-1579737599@www.iaff.org
SUMMARY:​Affiliate Leadership Training Summit(ALTS)/Human Relations Conference (HRC)
DESCRIPTION:
URL:https://www.iaff.org/event/%e2%80%8baffiliate-leadership-training-summit-human-relations-conference/
LOCATION:Lake Buena Vista\, FL
CATEGORIES:Upcoming Events
END:VEVENT
BEGIN:VEVENT
DTSTART;VALUE=DATE:20191125
DTEND;VALUE=DATE:20191127
DTSTAMP:20240229T154647
CREATED:20191105T171240Z
LAST-MODIFIED:20191105T171240Z
UID:45289-1574640000-1574812799@www.iaff.org
SUMMARY:8th District PEP
DESCRIPTION:
URL:https://www.iaff.org/event/8th-district-pep/
LOCATION:Indianapolis\, IN
CATEGORIES:PEP Events,Upcoming Events
END:VEVENT
BEGIN:VEVENT
DTSTART;VALUE=DATE:20191114
DTEND;VALUE=DATE:20191116
DTSTAMP:20240229T154647
CREATED:20190606T160852Z
LAST-MODIFIED:20191024T165452Z
UID:12202-1573689600-1573862399@www.iaff.org
SUMMARY:1st District PEP
DESCRIPTION:
URL:https://www.iaff.org/event/pep-1st-district/
LOCATION:Atlantic City\, NJ
CATEGORIES:PEP Events,Upcoming Events
END:VEVENT
BEGIN:VEVENT
DTSTART;VALUE=DATE:20191106
DTEND;VALUE=DATE:20191108
DTSTAMP:20240229T154647
CREATED:20190606T160707Z
LAST-MODIFIED:20191030T162545Z
UID:12199-1572998400-1573171199@www.iaff.org
SUMMARY:11th District PEP
DESCRIPTION:
URL:https://www.iaff.org/event/pep-11th-district/
LOCATION:Durant\, OK
CATEGORIES:PEP Events,Upcoming Events
END:VEVENT
BEGIN:VEVENT
DTSTART;VALUE=DATE:20191028
DTEND;VALUE=DATE:20191030
DTSTAMP:20240229T154647
CREATED:20190606T160536Z
LAST-MODIFIED:20191024T164819Z
UID:12194-1572220800-1572393599@www.iaff.org
SUMMARY:7th District PEP
DESCRIPTION:
URL:https://www.iaff.org/event/pep-7th-district/
LOCATION:Boise\, ID
CATEGORIES:PEP Events,Upcoming Events
END:VEVENT
BEGIN:VEVENT
DTSTART;VALUE=DATE:20190925
DTEND;VALUE=DATE:20190927
DTSTAMP:20240229T154647
CREATED:20190606T160426Z
LAST-MODIFIED:20191024T164841Z
UID:12191-1569369600-1569542399@www.iaff.org
SUMMARY:12th District PEP
DESCRIPTION:
URL:https://www.iaff.org/event/pep-12th-district/
LOCATION:Kissimmee\, FL
CATEGORIES:PEP Events,Upcoming Events
END:VEVENT
BEGIN:VEVENT
DTSTART;VALUE=DATE:20190921
DTEND;VALUE=DATE:20190922
DTSTAMP:20240229T154647
CREATED:20190110T212758Z
LAST-MODIFIED:20191024T164919Z
UID:1475-1569024000-1569110399@www.iaff.org
SUMMARY:Fallen Fire Fighter Memorial
DESCRIPTION:
URL:https://www.iaff.org/event/fallen-fire-fighters-memorial/
LOCATION:Colorado Springs\, CO 
CATEGORIES:Upcoming Events
END:VEVENT
BEGIN:VEVENT
DTSTART;VALUE=DATE:20190916
DTEND;VALUE=DATE:20190918
DTSTAMP:20240229T154647
CREATED:20190606T160332Z
LAST-MODIFIED:20191024T165017Z
UID:12187-1568592000-1568764799@www.iaff.org
SUMMARY:4th District PEP
DESCRIPTION:
URL:https://www.iaff.org/event/pep-4th-district/
LOCATION:Baltimore\, MD
CATEGORIES:PEP Events,Upcoming Events
END:VEVENT
BEGIN:VEVENT
DTSTART;VALUE=DATE:20190819
DTEND;VALUE=DATE:20190823
DTSTAMP:20240229T154647
CREATED:20190110T212606Z
LAST-MODIFIED:20191024T165303Z
UID:1472-1566172800-1566518399@www.iaff.org
SUMMARY:Redmond Health and Safety Symposium/Barbera EMS Conference
DESCRIPTION:Event Website 
URL:https://www.iaff.org/event/john-p-redmond-health-and-safety-symposium-dominick-f-barbera-ems-conference/
LOCATION:Nashville\, TN
CATEGORIES:Upcoming Events
END:VEVENT
BEGIN:VEVENT
DTSTART;VALUE=DATE:20190804
DTEND;VALUE=DATE:20190808
DTSTAMP:20240229T154647
CREATED:20190110T212455Z
LAST-MODIFIED:20190110T212455Z
UID:1469-1564876800-1565222399@www.iaff.org
SUMMARY:Canadian Policy Conference
DESCRIPTION:
URL:https://www.iaff.org/event/canadian-policy-conference/
LOCATION:St. John’s\, NL \, Canada
CATEGORIES:Upcoming Events
END:VEVENT
BEGIN:VEVENT
DTSTART;VALUE=DATE:20190722
DTEND;VALUE=DATE:20190724
DTSTAMP:20240229T154647
CREATED:20190606T160051Z
LAST-MODIFIED:20191024T165058Z
UID:12184-1563753600-1563926399@www.iaff.org
SUMMARY:10th District PEP
DESCRIPTION:
URL:https://www.iaff.org/event/pep-10th-district/
LOCATION:Lake Tahoe\, NV
CATEGORIES:PEP Events,Upcoming Events
END:VEVENT
BEGIN:VEVENT
DTSTART;VALUE=DATE:20190513
DTEND;VALUE=DATE:20190518
DTSTAMP:20240229T154647
CREATED:20190110T212254Z
LAST-MODIFIED:20190110T212254Z
UID:1467-1557705600-1558137599@www.iaff.org
SUMMARY:Communications Training Academy
DESCRIPTION:
URL:https://www.iaff.org/event/communications-training-academy/
LOCATION:Silver Spring\, MD
CATEGORIES:Upcoming Events
END:VEVENT
BEGIN:VEVENT
DTSTART;VALUE=DATE:20190407
DTEND;VALUE=DATE:20190420
DTSTAMP:20240229T154647
CREATED:20190110T212142Z
LAST-MODIFIED:20190110T212142Z
UID:1464-1554595200-1555718399@www.iaff.org
SUMMARY:Canadian Legislative Conference
DESCRIPTION:
URL:https://www.iaff.org/event/canadian-legislative-conference/
LOCATION:Ottawa\, ON\, Canada
CATEGORIES:Upcoming Events
END:VEVENT
BEGIN:VEVENT
DTSTART;VALUE=DATE:20190309
DTEND;VALUE=DATE:20190314
DTSTAMP:20240229T154647
CREATED:20181011T181535Z
LAST-MODIFIED:20191024T165218Z
UID:441-1552158000-1552507199@www.iaff.org
SUMMARY:Legislative Conference
DESCRIPTION:
URL:https://www.iaff.org/event/alfred-k-whitehead-legislative-conference/
LOCATION:Washington\, DC
CATEGORIES:Upcoming Events
END:VEVENT
BEGIN:VEVENT
DTSTART;VALUE=DATE:20190120
DTEND;VALUE=DATE:20190124
DTSTAMP:20240229T154647
CREATED:20181011T180852Z
LAST-MODIFIED:20191024T165134Z
UID:437-1547992800-1548251999@www.iaff.org
SUMMARY:Affiliate Leadership Training Summit (ALTS)
DESCRIPTION:
URL:https://www.iaff.org/event/affiliate-leadership-training-summit-alts/
LOCATION:Los Angeles\, CA
CATEGORIES:Upcoming Events
END:VEVENT
BEGIN:VEVENT
DTSTART;VALUE=DATE:20180806
DTEND;VALUE=DATE:20180811
DTSTAMP:20240229T154647
CREATED:20190906T184740Z
LAST-MODIFIED:20191024T165530Z
UID:41755-1533513600-1533945599@www.iaff.org
SUMMARY:Convention 2018
DESCRIPTION:
URL:https://www.iaff.org/event/convention-2018/
LOCATION:Seattle\, WA
CATEGORIES:Upcoming Events
END:VEVENT
END:VCALENDAR