BEGIN:VCALENDAR
VERSION:2.0
PRODID:-//IAFF - ECPv6.2.9//NONSGML v1.0//EN
CALSCALE:GREGORIAN
METHOD:PUBLISH
X-ORIGINAL-URL:https://www.iaff.org
X-WR-CALDESC:Events for IAFF
REFRESH-INTERVAL;VALUE=DURATION:PT1H
X-Robots-Tag:noindex
X-PUBLISHED-TTL:PT1H
BEGIN:VTIMEZONE
TZID:America/New_York
BEGIN:DAYLIGHT
TZOFFSETFROM:-0500
TZOFFSETTO:-0400
TZNAME:EDT
DTSTART:20240310T070000
END:DAYLIGHT
BEGIN:STANDARD
TZOFFSETFROM:-0400
TZOFFSETTO:-0500
TZNAME:EST
DTSTART:20241103T060000
END:STANDARD
END:VTIMEZONE
BEGIN:VEVENT
DTSTART;VALUE=DATE:20240507
DTEND;VALUE=DATE:20240508
DTSTAMP:20240229T090914
CREATED:20240129T142541Z
LAST-MODIFIED:20240129T142541Z
UID:117070-1715040000-1715126399@www.iaff.org
SUMMARY:Professional Fire Fighters of New Hampshire - PEP Event
DESCRIPTION:
URL:https://www.iaff.org/event/professional-fire-fighters-of-new-hampshire-pep-event/
LOCATION:Concord\, NH
CATEGORIES:Upcoming Events
END:VEVENT
BEGIN:VEVENT
DTSTART;VALUE=DATE:20240507
DTEND;VALUE=DATE:20240508
DTSTAMP:20240229T090914
CREATED:20240221T181258Z
LAST-MODIFIED:20240221T181258Z
UID:117473-1715040000-1715126399@www.iaff.org
SUMMARY:APPFFA "Jack Lloyd" Biennial Educational Seminar - PEP Event
DESCRIPTION:
URL:https://www.iaff.org/event/appffa-jack-lloyd-biennial-educational-seminar-pep-event/
LOCATION:Dartmouth\, NS\, Canada
CATEGORIES:Upcoming Events
END:VEVENT
BEGIN:VEVENT
DTSTART;VALUE=DATE:20240529
DTEND;VALUE=DATE:20240601
DTSTAMP:20240229T090914
CREATED:20231017T175007Z
LAST-MODIFIED:20240129T143531Z
UID:113400-1716940800-1717199999@www.iaff.org
SUMMARY:IAFF 5th District Conference
DESCRIPTION:
URL:https://www.iaff.org/event/iaff-5th-district-conference/
LOCATION:Minneapolis\, MN
CATEGORIES:Upcoming Events
END:VEVENT
BEGIN:VEVENT
DTSTART;VALUE=DATE:20240617
DTEND;VALUE=DATE:20240620
DTSTAMP:20240229T090914
CREATED:20231017T175115Z
LAST-MODIFIED:20231017T175115Z
UID:113402-1718582400-1718841599@www.iaff.org
SUMMARY:3rd District Conference
DESCRIPTION:
URL:https://www.iaff.org/event/3rd-district-conference/
LOCATION:Ledyard\, CT
CATEGORIES:Upcoming Events
END:VEVENT
BEGIN:VEVENT
DTSTART;VALUE=DATE:20240825
DTEND;VALUE=DATE:20240831
DTSTAMP:20240229T090914
CREATED:20231017T175231Z
LAST-MODIFIED:20231017T175231Z
UID:113405-1724544000-1725062399@www.iaff.org
SUMMARY:2024 Convention
DESCRIPTION:
URL:https://www.iaff.org/event/2024-convention/
LOCATION:Boston\, MA
CATEGORIES:Upcoming Events
END:VEVENT
BEGIN:VEVENT
DTSTART;VALUE=DATE:20240913
DTEND;VALUE=DATE:20240917
DTSTAMP:20240229T090914
CREATED:20231122T145842Z
LAST-MODIFIED:20240126T173939Z
UID:114841-1726185600-1726531199@www.iaff.org
SUMMARY:IAFF-MG International Motorcycle Rally
DESCRIPTION:[vc_row css=”.vc_custom_1693239965500{margin-bottom: 0px !important;}”][vc_column][vc_column_text css=”.vc_custom_1706290777623{margin-bottom: 0px !important;}”]With a landscape dominated by the Appalachian Mountains to the east\, rivers\, and streams to the west and dense\, hilly forests in the central part of the state\, Tennessee has all of the geographical and geological ingredients needed to give birth to some truly epic motorcycle roads. With such a varying landscape from east to west\, Tennessee provides a full spectrum of options when it comes to motorcycle rides. \nThat is why this year\, the IAFF-MG’s Standing Committee has selected Kingsport\, Tennessee\, as our destination for our 2024 International Motorcycle Rally\, Sept. 13-16\, 2024. \nWorking with our 14th District Committee Member Ed Jaros\, our TN State Coordinator Kevin Mitchell\, and our Event Planning Sub-Committee\, we are in the process of putting the logistics for our 2024 rally. \nIAFF-MG Rally merchandise will be sold through the IAFF’s new Online Store and will be available onsite at the rally. \nWe will post a schedule of events as they become available. \n\nHotel\nMeadowView Conference Resort & Convention Center\n$149/night \nBook your room[/vc_column_text][/vc_column][/vc_row]
URL:https://www.iaff.org/event/iaff-mg-international-motorcycle-rally/
CATEGORIES:Motorcycle Group Events,Upcoming Events
END:VEVENT
BEGIN:VEVENT
DTSTART;VALUE=DATE:20240921
DTEND;VALUE=DATE:20240922
DTSTAMP:20240229T090914
CREATED:20231017T175349Z
LAST-MODIFIED:20231017T175349Z
UID:113408-1726876800-1726963199@www.iaff.org
SUMMARY:Fallen Fire Fighter Memorial
DESCRIPTION:
URL:https://www.iaff.org/event/fallen-fire-fighter-memorial-3/
LOCATION:Colorado Springs\, CO 
CATEGORIES:Upcoming Events
END:VEVENT
BEGIN:VEVENT
DTSTART;VALUE=DATE:20241010
DTEND;VALUE=DATE:20241014
DTSTAMP:20240229T090914
CREATED:20231208T154648Z
LAST-MODIFIED:20231208T154648Z
UID:115171-1728518400-1728863999@www.iaff.org
SUMMARY:IAFF-MG 11th District 2024 Fall Ride
DESCRIPTION:Location\nPort of Kimberling City Marina and Resort\n201 Marina Way\nKimberling City\, Missouri 65686\n(417) 739-2315\nhttps://portofkimberling.com \nRates\nPENDING \nIAFF MG 11th District 2024 Ride Coordinator: Richard Thompson (806) 670-6542 has a ride plan that everyone should appreciate for the Fall 2024 Ride.
URL:https://www.iaff.org/event/iaff-mg-11th-district-2024-fall-ride/
LOCATION:Kimberling City\, Missouri
CATEGORIES:Motorcycle Group Events,Upcoming Events
END:VEVENT
END:VCALENDAR