BEGIN:VCALENDAR
VERSION:2.0
PRODID:-//IAFF - ECPv6.2.9//NONSGML v1.0//EN
CALSCALE:GREGORIAN
METHOD:PUBLISH
X-WR-CALNAME:IAFF
X-ORIGINAL-URL:https://www.iaff.org
X-WR-CALDESC:Events for IAFF
REFRESH-INTERVAL;VALUE=DURATION:PT1H
X-Robots-Tag:noindex
X-PUBLISHED-TTL:PT1H
BEGIN:VTIMEZONE
TZID:America/New_York
BEGIN:DAYLIGHT
TZOFFSETFROM:-0500
TZOFFSETTO:-0400
TZNAME:EDT
DTSTART:20220313T070000
END:DAYLIGHT
BEGIN:STANDARD
TZOFFSETFROM:-0400
TZOFFSETTO:-0500
TZNAME:EST
DTSTART:20221106T060000
END:STANDARD
BEGIN:DAYLIGHT
TZOFFSETFROM:-0500
TZOFFSETTO:-0400
TZNAME:EDT
DTSTART:20230312T070000
END:DAYLIGHT
BEGIN:STANDARD
TZOFFSETFROM:-0400
TZOFFSETTO:-0500
TZNAME:EST
DTSTART:20231105T060000
END:STANDARD
BEGIN:DAYLIGHT
TZOFFSETFROM:-0500
TZOFFSETTO:-0400
TZNAME:EDT
DTSTART:20240310T070000
END:DAYLIGHT
BEGIN:STANDARD
TZOFFSETFROM:-0400
TZOFFSETTO:-0500
TZNAME:EST
DTSTART:20241103T060000
END:STANDARD
END:VTIMEZONE
BEGIN:VEVENT
DTSTART;VALUE=DATE:20240226
DTEND;VALUE=DATE:20240227
DTSTAMP:20240229T090913
CREATED:20231128T145935Z
LAST-MODIFIED:20231128T145935Z
UID:114912-1708905600-1708991999@www.iaff.org
SUMMARY:Professional Fire Fighters Union of Indiana - PEP Event
DESCRIPTION:
URL:https://www.iaff.org/event/professional-fire-fighters-union-of-indiana-pep-event-2/
LOCATION:Indianapolis\, IN
CATEGORIES:Upcoming Events
END:VEVENT
BEGIN:VEVENT
DTSTART;VALUE=DATE:20240117
DTEND;VALUE=DATE:20240119
DTSTAMP:20240229T090913
CREATED:20231213T211038Z
LAST-MODIFIED:20240104T201125Z
UID:115502-1705449600-1705622399@www.iaff.org
SUMMARY:Newport News\, VA FD/Local 794 HRTA Event
DESCRIPTION:
URL:https://www.iaff.org/event/newport-news-fire-department-hrta-event/
LOCATION:Newport News\, VA
CATEGORIES:Upcoming Events
END:VEVENT
BEGIN:VEVENT
DTSTART;VALUE=DATE:20240108
DTEND;VALUE=DATE:20240109
DTSTAMP:20240229T090913
CREATED:20231128T145629Z
LAST-MODIFIED:20231128T145949Z
UID:114910-1704672000-1704758399@www.iaff.org
SUMMARY:Oregon State Fire Fighters Council - PEP Event
DESCRIPTION:
URL:https://www.iaff.org/event/oregon-state-fire-fighters-council-pep-event-2/
LOCATION:Salem\, OR
CATEGORIES:Upcoming Events
END:VEVENT
BEGIN:VEVENT
DTSTART;VALUE=DATE:20231103
DTEND;VALUE=DATE:20231104
DTSTAMP:20240229T090913
CREATED:20230822T191337Z
LAST-MODIFIED:20230822T191337Z
UID:110478-1698969600-1699055999@www.iaff.org
SUMMARY:KCK Professional Firefighters - PEP Event
DESCRIPTION:
URL:https://www.iaff.org/event/kck-professional-firefighters-pep-event/
LOCATION:Kansas City\, KS
CATEGORIES:Upcoming Events
END:VEVENT
BEGIN:VEVENT
DTSTART;VALUE=DATE:20231024
DTEND;VALUE=DATE:20231025
DTSTAMP:20240229T090913
CREATED:20230821T145328Z
LAST-MODIFIED:20230828T162426Z
UID:110454-1698105600-1698191999@www.iaff.org
SUMMARY:PEP Online October 2023
DESCRIPTION:
URL:https://www.iaff.org/event/pep-online-october-24-2023/
LOCATION:Online via Zoom
CATEGORIES:Upcoming Events
END:VEVENT
BEGIN:VEVENT
DTSTART;VALUE=DATE:20231022
DTEND;VALUE=DATE:20231025
DTSTAMP:20240229T090913
CREATED:20230915T180649Z
LAST-MODIFIED:20230915T180649Z
UID:112399-1697932800-1698191999@www.iaff.org
SUMMARY:7th District Conference
DESCRIPTION:
URL:https://www.iaff.org/event/7th-district-conference/
LOCATION:Boise\, ID
CATEGORIES:Upcoming Events
END:VEVENT
BEGIN:VEVENT
DTSTART;VALUE=DATE:20231020
DTEND;VALUE=DATE:20231023
DTSTAMP:20240229T090913
CREATED:20230901T145750Z
LAST-MODIFIED:20230901T154918Z
UID:111034-1697760000-1698019199@www.iaff.org
SUMMARY:IAFF-MG 11th District Fall Ride
DESCRIPTION:[vc_row css=”.vc_custom_1693239965500{margin-bottom: 0px !important;}”][vc_column][vc_column_text css=”.vc_custom_1693583356120{margin-bottom: 0px !important;}”]IAFF-MG Mighty 11th District’s 2023 Fall Ride\nOct. 20-22\, 2023 \nSureStay by Best Western Hotel\n3111 N. Broadway Street\nPoteau\, Oklahoma\n(918) 647-4001\nEvent Room Rate: $90 \nGet your hotel reservation early and start making your plans to attend this event early. Looking forward to seeing everyone again. RIDE ON! \nQuestions about this event? Contact: Jorge Lerma (956) 551-0137[/vc_column_text][/vc_column][/vc_row]
URL:https://www.iaff.org/event/iaff-mg-11th-district-fall-ride/
CATEGORIES:Motorcycle Group Events,Upcoming Events
END:VEVENT
BEGIN:VEVENT
DTSTART;VALUE=DATE:20231017
DTEND;VALUE=DATE:20231018
DTSTAMP:20240229T090913
CREATED:20230821T145303Z
LAST-MODIFIED:20230828T162339Z
UID:110452-1697500800-1697587199@www.iaff.org
SUMMARY:PEP Online October 2023
DESCRIPTION:
URL:https://www.iaff.org/event/pep-online-october-17-2023/
LOCATION:Online via Zoom
CATEGORIES:Upcoming Events
END:VEVENT
BEGIN:VEVENT
DTSTART;VALUE=DATE:20231003
DTEND;VALUE=DATE:20231004
DTSTAMP:20240229T090913
CREATED:20230821T145129Z
LAST-MODIFIED:20230828T162210Z
UID:110446-1696291200-1696377599@www.iaff.org
SUMMARY:PEP Online October 2023
DESCRIPTION:
URL:https://www.iaff.org/event/pep-online-october-3-2023/
LOCATION:Online via Zoom
CATEGORIES:Upcoming Events
END:VEVENT
BEGIN:VEVENT
DTSTART;VALUE=DATE:20230914
DTEND;VALUE=DATE:20230917
DTSTAMP:20240229T090913
CREATED:20230811T153055Z
LAST-MODIFIED:20230829T131212Z
UID:110126-1694649600-1694908799@www.iaff.org
SUMMARY:IAFF-MG Ride of Honor
DESCRIPTION:[vc_row css=”.vc_custom_1693239965500{margin-bottom: 0px !important;}”][vc_column][vc_column_text css=”.vc_custom_1693239939295{margin-bottom: 0px !important;}”]Itinerary of IAFF-MG Events in Colorado Springs \nThursday\, Sept. 14 / 6 p.m.\nHilton Garden Inn\n2035 Aerotech Dr\, Colorado Springs 80916\nIAFF-MG Meet and Greet for IAFF-MG members and friends\, including pizza and beverages. \nFriday\, Sept. 15 / 9 a.m.\nDay Ride\nPike’s Peak Harley Davidson\nThe IAFF-MG’s Colorado Chapter is planning a day ride in the area. Meet at 0900 at Pike’s Peak Harley Davidson for safety briefing and ride waivers (and coffee and donuts). \nSaturday\, Sept. 16 / 8 a.m.\nRide of Honor and IAFF Fallen Fire Fighters Memorial \n\nRemember to wear a long-sleeve white shirt under your colors.\nIAFF-MG riders will pre-stage at 0800 for the Ride of Honor in the IRS Offices parking lot across from the old Elegante Hotel – 2864 S Circle Dr\, Colorado Springs\, CO 80906.\nWe will sign our ride waivers and then ride as a group to the main staging area at the University Village Shopping Center (5262 N Nevada Ave\, Colorado Springs\, CO 80918).\nWe will then ride to Memorial Park and attend the IAFF Fallen Fire Fighters Memorial where we will pay honor to our brother and sister fire fighters that have made the ultimate sacrifice in service to our communities and country.\n\n*** Pipes and Drums will be doing their Tejon Street performance both Friday and Saturday evenings***\n*** A bike wash will be set up at CSFD station 4 and at the Doubletree so your ride can be nice and shiny for the Ride of Honor. ***[/vc_column_text][/vc_column][/vc_row]
URL:https://www.iaff.org/event/fffm-ride-of-honor-2023/
CATEGORIES:Motorcycle Group Events,Upcoming Events
END:VEVENT
BEGIN:VEVENT
DTSTART;VALUE=DATE:20230717
DTEND;VALUE=DATE:20230719
DTSTAMP:20240229T090913
CREATED:20230330T193711Z
LAST-MODIFIED:20230501T200509Z
UID:104473-1689552000-1689724799@www.iaff.org
SUMMARY:12th District Conference
DESCRIPTION:
URL:https://www.iaff.org/event/12th-district-conference/
LOCATION:Savannah\, GA
CATEGORIES:Upcoming Events
END:VEVENT
BEGIN:VEVENT
DTSTART;VALUE=DATE:20230711
DTEND;VALUE=DATE:20230715
DTSTAMP:20240229T090913
CREATED:20220705T161944Z
LAST-MODIFIED:20230329T175728Z
UID:94946-1689033600-1689379199@www.iaff.org
SUMMARY:IAFF-MG International Motorcycle Rally
DESCRIPTION:
URL:https://www.iaff.org/event/iaff-mg-international-motorcycle-rally-kenosha-wi/
LOCATION:Kenosha\, WI
CATEGORIES:Motorcycle Group Events,Upcoming Events
END:VEVENT
BEGIN:VEVENT
DTSTART;VALUE=DATE:20230628
DTEND;VALUE=DATE:20230703
DTSTAMP:20240229T090913
CREATED:20220713T134822Z
LAST-MODIFIED:20221026T145012Z
UID:95205-1687910400-1688342399@www.iaff.org
SUMMARY:Granite Mountain Hotshots 10-Year Anniversary – IAFF Ride to Remember
DESCRIPTION:[vc_row][vc_column width=”1/2″][vc_single_image image=”95212″ img_size=”full”][vc_btn title=”About the Hotshots” style=”flat” color=”orange” el_class=”iaff-btn-gold” link=”url:https%3A%2F%2Fazstateparks.com%2Fhotshots%2Fthe-hotshots%2Fabout-the-hotshots|target:_blank”][vc_btn title=”Granite Mountain Hotshots Memorial State Park” style=”flat” color=”orange” el_class=”iaff-btn-gold” link=”url:https%3A%2F%2Fazstateparks.com%2Fhotshots|target:_blank”][/vc_column][vc_column width=”1/2″][/vc_column][vc_column][/vc_column][/vc_row]
URL:https://www.iaff.org/event/granite-mountain-hot-shots-10-year-anniversary-iaff-ride-to-remember/
CATEGORIES:Motorcycle Group Events,Upcoming Events
END:VEVENT
BEGIN:VEVENT
DTSTART;VALUE=DATE:20230612
DTEND;VALUE=DATE:20230614
DTSTAMP:20240229T090913
CREATED:20230330T193424Z
LAST-MODIFIED:20230412T174007Z
UID:104468-1686528000-1686700799@www.iaff.org
SUMMARY:9th District Conference
DESCRIPTION:
URL:https://www.iaff.org/event/9th-district-conference/
LOCATION:Reno\, NV
CATEGORIES:Upcoming Events
END:VEVENT
BEGIN:VEVENT
DTSTART;VALUE=DATE:20230525
DTEND;VALUE=DATE:20230527
DTSTAMP:20240229T090913
CREATED:20220715T185037Z
LAST-MODIFIED:20230329T182842Z
UID:95317-1684972800-1685145599@www.iaff.org
SUMMARY:4th District Conference
DESCRIPTION:
URL:https://www.iaff.org/event/4th-district-conference/
LOCATION:Norfolk\, VA
CATEGORIES:PEP Events,Upcoming Events
END:VEVENT
BEGIN:VEVENT
DTSTART;VALUE=DATE:20230522
DTEND;VALUE=DATE:20230523
DTSTAMP:20240229T090913
CREATED:20230308T143301Z
LAST-MODIFIED:20230308T143301Z
UID:103633-1684713600-1684799999@www.iaff.org
SUMMARY:Kentucky Professional Fire Fighters - PEP Event
DESCRIPTION:
URL:https://www.iaff.org/event/kentucky-pep-event/
LOCATION:Covington\, KY
CATEGORIES:PEP Events,Upcoming Events
END:VEVENT
BEGIN:VEVENT
DTSTART;VALUE=DATE:20230220
DTEND;VALUE=DATE:20230221
DTSTAMP:20240229T090913
CREATED:20221202T151442Z
LAST-MODIFIED:20221202T151442Z
UID:100364-1676851200-1676937599@www.iaff.org
SUMMARY:Professional Fire Fighters Union of Indiana (PFUI) PEP Event
DESCRIPTION:
URL:https://www.iaff.org/event/professional-fire-fighters-union-of-indiana-pep-event/
LOCATION:Indianapolis\, IN
CATEGORIES:PEP Events,Upcoming Events
END:VEVENT
BEGIN:VEVENT
DTSTART;VALUE=DATE:20230213
DTEND;VALUE=DATE:20230214
DTSTAMP:20240229T090913
CREATED:20230112T191815Z
LAST-MODIFIED:20230112T191815Z
UID:101626-1676246400-1676332799@www.iaff.org
SUMMARY:DC Fire Fighters Association\, Local 36 - PEP Event
DESCRIPTION:
URL:https://www.iaff.org/event/dc-fire-fighters-association-local-36-pep-event/
LOCATION:Washington\, DC
CATEGORIES:PEP Events,Upcoming Events
END:VEVENT
BEGIN:VEVENT
DTSTART;VALUE=DATE:20230109
DTEND;VALUE=DATE:20230110
DTSTAMP:20240229T090913
CREATED:20221202T151313Z
LAST-MODIFIED:20221216T194530Z
UID:100361-1673222400-1673308799@www.iaff.org
SUMMARY:Oregon State Fire Fighters Council PEP Event
DESCRIPTION:
URL:https://www.iaff.org/event/oregon-state-fire-fighters-council-pep-event/
LOCATION:Salem\, OR
CATEGORIES:PEP Events,Upcoming Events
END:VEVENT
BEGIN:VEVENT
DTSTART;VALUE=DATE:20221121
DTEND;VALUE=DATE:20221123
DTSTAMP:20240229T090913
CREATED:20220406T214808Z
LAST-MODIFIED:20221025T144155Z
UID:91772-1668988800-1669161599@www.iaff.org
SUMMARY:8th District PEP Training Event
DESCRIPTION:
URL:https://www.iaff.org/event/8th-district-pep-training-event/
LOCATION:Indianapolis\, IN
CATEGORIES:PEP Events,Upcoming Events
END:VEVENT
BEGIN:VEVENT
DTSTART;VALUE=DATE:20221114
DTEND;VALUE=DATE:20221115
DTSTAMP:20240229T090913
CREATED:20220301T184516Z
LAST-MODIFIED:20220815T172331Z
UID:90645-1668384000-1668470399@www.iaff.org
SUMMARY:UPFFA of Connecticut PEP Training Event
DESCRIPTION:
URL:https://www.iaff.org/event/upffa-of-connecticut-pep-training-event/
LOCATION:Mashantucket\, CT
CATEGORIES:PEP Events,Upcoming Events
END:VEVENT
BEGIN:VEVENT
DTSTART;VALUE=DATE:20221025
DTEND;VALUE=DATE:20221026
DTSTAMP:20240229T090913
CREATED:20220829T133708Z
LAST-MODIFIED:20220829T133708Z
UID:96562-1666656000-1666742399@www.iaff.org
SUMMARY:PEP Online: Legal Issues Track
DESCRIPTION:
URL:https://www.iaff.org/event/pep-online-legal-issues-track/
LOCATION:Virtual
CATEGORIES:PEP Events,Upcoming Events
END:VEVENT
BEGIN:VEVENT
DTSTART;VALUE=DATE:20221024
DTEND;VALUE=DATE:20221026
DTSTAMP:20240229T090913
CREATED:20220406T214443Z
LAST-MODIFIED:20220923T140949Z
UID:91768-1666569600-1666742399@www.iaff.org
SUMMARY:10th District PEP Training Event
DESCRIPTION:
URL:https://www.iaff.org/event/10th-district-pep-training-event/
LOCATION:San Francisco\, CA
CATEGORIES:PEP Events,Upcoming Events
END:VEVENT
BEGIN:VEVENT
DTSTART;VALUE=DATE:20221018
DTEND;VALUE=DATE:20221019
DTSTAMP:20240229T090913
CREATED:20220829T133635Z
LAST-MODIFIED:20220829T133635Z
UID:96560-1666051200-1666137599@www.iaff.org
SUMMARY:PEP Online: Negotiations Track
DESCRIPTION:
URL:https://www.iaff.org/event/pep-online-negotiations-track/
LOCATION:Virtual
CATEGORIES:PEP Events,Upcoming Events
END:VEVENT
BEGIN:VEVENT
DTSTART;VALUE=DATE:20221016
DTEND;VALUE=DATE:20221019
DTSTAMP:20240229T090913
CREATED:20220623T155741Z
LAST-MODIFIED:20220815T172544Z
UID:94820-1665878400-1666137599@www.iaff.org
SUMMARY:7th District PEP Training Event
DESCRIPTION:
URL:https://www.iaff.org/event/7th-district-pep-training-event-2/
LOCATION:Boise\, ID
CATEGORIES:PEP Events,Upcoming Events
END:VEVENT
BEGIN:VEVENT
DTSTART;VALUE=DATE:20221004
DTEND;VALUE=DATE:20221005
DTSTAMP:20240229T090913
CREATED:20220829T133534Z
LAST-MODIFIED:20220829T133534Z
UID:96557-1664841600-1664927999@www.iaff.org
SUMMARY:PEP Online: Leadership Track
DESCRIPTION:
URL:https://www.iaff.org/event/pep-online-leadership-track/
LOCATION:Virtual
CATEGORIES:PEP Events,Upcoming Events
END:VEVENT
BEGIN:VEVENT
DTSTART;VALUE=DATE:20220906
DTEND;VALUE=DATE:20220908
DTSTAMP:20240229T090913
CREATED:20220727T154405Z
LAST-MODIFIED:20220727T154405Z
UID:95610-1662422400-1662595199@www.iaff.org
SUMMARY:Virginia Professional Fire Fighters PEP Training Event
DESCRIPTION:
URL:https://www.iaff.org/event/virginia-professional-fire-fighters-pep-training-event/
LOCATION:Virginia Beach\, VA
CATEGORIES:PEP Events,Upcoming Events
END:VEVENT
BEGIN:VEVENT
DTSTART;VALUE=DATE:20220726
DTEND;VALUE=DATE:20220727
DTSTAMP:20240229T090913
CREATED:20220621T200846Z
LAST-MODIFIED:20220621T200846Z
UID:94747-1658793600-1658879999@www.iaff.org
SUMMARY:PEP Online: Union Representation Track
DESCRIPTION:
URL:https://www.iaff.org/event/pep-online-union-representation-track/
CATEGORIES:PEP Events,Upcoming Events
END:VEVENT
BEGIN:VEVENT
DTSTART;VALUE=DATE:20220719
DTEND;VALUE=DATE:20220720
DTSTAMP:20240229T090913
CREATED:20220621T200645Z
LAST-MODIFIED:20220621T200714Z
UID:94745-1658188800-1658275199@www.iaff.org
SUMMARY:PEP Online: Union Administration Track
DESCRIPTION:
URL:https://www.iaff.org/event/pep-online-union-administration-track/
CATEGORIES:PEP Events,Upcoming Events
END:VEVENT
BEGIN:VEVENT
DTSTART;VALUE=DATE:20220712
DTEND;VALUE=DATE:20220713
DTSTAMP:20240229T090913
CREATED:20220621T200509Z
LAST-MODIFIED:20220621T200744Z
UID:94743-1657584000-1657670399@www.iaff.org
SUMMARY:PEP Online: New Leadership Skills Track
DESCRIPTION:
URL:https://www.iaff.org/event/pep-online-new-leadership-skills-track/
CATEGORIES:PEP Events,Upcoming Events
END:VEVENT
END:VCALENDAR